BEGIN:VCALENDAR
VERSION:2.0
PRODID:-//wp-events-plugin.com//7.2.3.1//EN
TZID:America/Halifax
X-WR-TIMEZONE:America/Halifax
BEGIN:VEVENT
UID:414@devourfest.com
DTSTART;TZID=America/Halifax:20171029T133000
DTEND;TZID=America/Halifax:20171029T150000
DTSTAMP:20170905T145731Z
URL:https://devourfest.com/program/42-grams-wthe-chef-at-the-palace/
SUMMARY:42 GRAMS w/The Chef at the Palace
DESCRIPTION:42 GRAMS\nOpening a high profile restaurant with Michelin star 
 aspirations is never easy and is always hardest on the owners\, even for C
 hicago’s 42 Grams.\nUSA\, 2016\, 82 minutes\nDirector Jack Newell\nDistr
 ibutor Gunpowder &amp\; Sky Distribution\n\nScreens with:\n\nThe Chef at t
 he Palace\nChef Maciej Nowicki is no ordinary chef. He digs deep into a cu
 linary identity of Poland through research\, reconstructs historical recip
 es\, and ultimately\, recreates long-forgotten dishes.\nPoland\, 2017\, 6 
 minutes\nDirector Bartosz Dziamski
ATTACH;FMTTYPE=image/jpeg:https://devourfest.com/wp-content/uploads/2017/0
 8/42-GRAMS.jpeg
LOCATION:Al Whittle Theatre - Studio Z\, 450 Main St\, Wolfville\, NS\, B4P
  1E2\, Canada
GEO:45.091618;-64.362640
X-APPLE-STRUCTURED-LOCATION;VALUE=URI;X-ADDRESS=450 Main St\, Wolfville\, N
 S\, B4P 1E2\, Canada;X-APPLE-RADIUS=100;X-TITLE=Al Whittle Theatre - Studi
 o Z:geo:45.091618,-64.362640
END:VEVENT
BEGIN:VTIMEZONE
TZID:America/Halifax
X-LIC-LOCATION:America/Halifax
BEGIN:DAYLIGHT
DTSTART:20170312T030000
TZOFFSETFROM:-0400
TZOFFSETTO:-0300
TZNAME:ADT
END:DAYLIGHT
END:VTIMEZONE
END:VCALENDAR