BEGIN:VCALENDAR
VERSION:2.0
PRODID:-//wp-events-plugin.com//7.2.3.1//EN
TZID:America/Halifax
X-WR-TIMEZONE:America/Halifax
BEGIN:VEVENT
UID:974@devourfest.com
DTSTART;TZID=America/Halifax:20241027T130000
DTEND;TZID=America/Halifax:20241027T144500
DTSTAMP:20240905T122106Z
URL:https://devourfest.com/program/a-new-kind-of-wilderness-w-scenes-in-a-
 coq-au-vin/
SUMMARY:A New Kind of Wilderness w/Scenes in a Coq au Vin
DESCRIPTION:In a secluded Norwegian forest\, the Payne family’s idyllic o
 ff-the-grid existence is upended by tragedy\, forcing them to integrate in
 to modern society. Through tender moments and shared love\, the Paynes nav
 igate challenges with resilience and compassion\, offering a heartfelt and
  moving exploration of grief and acceptance in the face of change.\nNorway
 \, 2024\, 84 minutes\nDirector: Silje Evensmo Jacobsen\nDistributor: Blue 
 Ice Docs\n\nScenes in a Coq au Vin\n\nThe timeless tradition of preparing 
 Coq au Vin\, showcasing the essence of life and death through food.\nCanad
 a\, 2023\, 13 minutes\nDirector: Geordie Trifa 
ATTACH;FMTTYPE=image/jpeg:https://devourfest.com/wp-content/uploads/2024/0
 9/A-New-Kind-Of-Wilderness-e1725302356989.jpeg
CATEGORIES:FILM
LOCATION:Al Whittle Theatre\, 450 Main St\, Wolfville\, NS\, B4P 1E2\, Cana
 da
GEO:45.0915;-64.362765
X-APPLE-STRUCTURED-LOCATION;VALUE=URI;X-ADDRESS=450 Main St\, Wolfville\, N
 S\, B4P 1E2\, Canada;X-APPLE-RADIUS=100;X-TITLE=Al Whittle Theatre:geo:45.
 0915,-64.362765
END:VEVENT
BEGIN:VTIMEZONE
TZID:America/Halifax
X-LIC-LOCATION:America/Halifax
BEGIN:DAYLIGHT
DTSTART:20240310T030000
TZOFFSETFROM:-0400
TZOFFSETTO:-0300
TZNAME:ADT
END:DAYLIGHT
END:VTIMEZONE
END:VCALENDAR