BEGIN:VCALENDAR
VERSION:2.0
PRODID:-//wp-events-plugin.com//7.2.3.1//EN
TZID:America/Halifax
X-WR-TIMEZONE:America/Halifax
BEGIN:VEVENT
UID:118@devourfest.com
DTSTART;TZID=America/Halifax:20141115T210000
DTEND;TZID=America/Halifax:20141115T231500
DTSTAMP:20140922T114302Z
URL:https://devourfest.com/program/a-tale-of-samurai-cooking-a-true-love-s
 tory-wpour-retourner/
SUMMARY:A Tale of Samurai Cooking - A True Love Story w/Pour Retourner
DESCRIPTION:A Tale of Samurai Cooking-A True Love Story (Bushi No Kondate)\
 n\nNot all samurai films are made the same. In A Tale of Samurai Cooking\,
  fans of romance\, good food\, and historical dramas will find all they ev
 er wanted (and more) in one great film.\n\nJapan\, 2013\, 122 minutes\nDir
 ector Yuzo Asahara\nDistributor GAGA\n\nPour Retourner\n\n\n\nA respected 
 prison chef is let out on parole and struggles to find a place for himself
  and his talent in the outside world.\n\nCanada\, 2014\, 13 minutes\nDirec
 tor Scooter Corkle\nDistributor Travelling Distribution
ATTACH;FMTTYPE=image/jpeg:https://devourfest.com/wp-content/uploads/2014/0
 9/A-Tale-of-Samurai-Cooking.jpg
LOCATION:Al Whittle Theatre\, 450 Main St\, Wolfville\, NS\, B4P 1E2\, Cana
 da
GEO:45.0915;-64.362765
X-APPLE-STRUCTURED-LOCATION;VALUE=URI;X-ADDRESS=450 Main St\, Wolfville\, N
 S\, B4P 1E2\, Canada;X-APPLE-RADIUS=100;X-TITLE=Al Whittle Theatre:geo:45.
 0915,-64.362765
END:VEVENT
BEGIN:VTIMEZONE
TZID:America/Halifax
X-LIC-LOCATION:America/Halifax
BEGIN:STANDARD
DTSTART:20141102T010000
TZOFFSETFROM:-0300
TZOFFSETTO:-0400
TZNAME:AST
END:STANDARD
END:VTIMEZONE
END:VCALENDAR