BEGIN:VCALENDAR
VERSION:2.0
PRODID:-//wp-events-plugin.com//7.2.3.1//EN
TZID:America/Halifax
X-WR-TIMEZONE:America/Halifax
BEGIN:VEVENT
UID:428@devourfest.com
DTSTART;TZID=America/Halifax:20180322T183000
DTEND;TZID=America/Halifax:20180322T220000
DTSTAMP:20180221T171732Z
URL:https://devourfest.com/program/a-taste-of-devour-at-the-sonoma-interna
 tional-film-festival/
SUMMARY:Devour! Sonoma Chefs & Shorts Gala Dinner
DESCRIPTION:We are thrilled to partner with the Sonoma International Film F
 estival to bring our unique film &amp\; food dining experience to this spe
 cial part of the world. The Devour! Sonoma Chefs &amp\; Shorts Gala Dinner
  will bring highly-regarded chefs to Sonoma:\n\n 	Dominique Crenn (first w
 oman to earn 2 Michelin Stars &amp\; named Best Female Chef in 2016\, Atel
 ier Crenn\, San Francisco)\n 	Evan Funke (Felix Trattoria\, Los Angeles)\n
  	Michael Howell (Founder of Devour!\, Wolfville\, Nova Scotia) and Sonoma
  Chefs\n 	John McReynolds (Edge\, Sonoma)\n 	John Toulze (The Girl and The
  Fig\, Sonoma)\n\n\n\nEach course will be paired with a short film to insp
 ire the chefs and the best Sonoma has to offer for wines\, as well as a li
 ttle taste from Nova Scotia. The films are presented simultaneously during
  the dinner.\n\nThis unique offering has sold out in many locations around
  the world\, and with this combination of award-winning chefs\, great loca
 l foods and wines\, it’s sure to please the inner foodie in all. Tickets
  are $120 for Soiree pass holders\, $150 for all other pass holders\, $200
  for general public and $1500 for a table of 8. Tickets go on sale for thi
 s event on Thursday\, February 1 at www.sonomafilmfest.org.\n\nAbout the S
 onoma International Film Festival\nThe Sonoma International Film Festival\
 , an entirely walkable festival\, is a 501(c)3 corporation dedicated to pr
 omoting independent film\, supporting filmmakers around the world\, and in
 spiring film lovers. Most films screened at the Festival have attending fi
 lmmakers and actors making for informative Q&amp\;A’s. This unique five-
 day event features screening venues in and around Sonoma Plaza and offers 
 world-class cuisine from local artisans and exceptional wine from Sonoma v
 intners. Renowned filmmakers\, industry leaders and celebrities such as Br
 uce Willis\, Susan Sarandon\, Robin Williams\, John Lasseter\, Danny Glove
 r\, Demián Bichir\, Mary-Louise Parker\, Michael Keaton and Meg Ryan have
  walked the festival red carpet and enjoyed its intimate ambiance.
ATTACH;FMTTYPE=image/jpeg:https://devourfest.com/wp-content/uploads/2017/1
 2/Sonoma-Website-Slide.jpg
LOCATION:Sonoma Veterans Memorial Hall\, 126 1st Street West\, Sonoma\, CA\
 , 95476\, United States
GEO:38.298439;-122.457230
X-APPLE-STRUCTURED-LOCATION;VALUE=URI;X-ADDRESS=126 1st Street West\, Sonom
 a\, CA\, 95476\, United States;X-APPLE-RADIUS=100;X-TITLE=Sonoma Veterans 
 Memorial Hall:geo:38.298439,-122.457230
END:VEVENT
BEGIN:VTIMEZONE
TZID:America/Halifax
X-LIC-LOCATION:America/Halifax
BEGIN:DAYLIGHT
DTSTART:20180311T030000
TZOFFSETFROM:-0400
TZOFFSETTO:-0300
TZNAME:ADT
END:DAYLIGHT
END:VTIMEZONE
END:VCALENDAR