BEGIN:VCALENDAR
VERSION:2.0
PRODID:-//wp-events-plugin.com//7.2.3.1//EN
TZID:America/Halifax
X-WR-TIMEZONE:America/Halifax
BEGIN:VEVENT
UID:66@devourfest.com
DTSTART;TZID=America/Halifax:20140802T133000
DTEND;TZID=America/Halifax:20140802T160000
DTSTAMP:20140716T215100Z
URL:https://devourfest.com/program/an-afternoon-with-devour-a-moveable-fea
 st/
SUMMARY:An Afternoon with Devour!: A Moveable Feast
DESCRIPTION:On Saturday\, August 2\,Nova Scotia’s most famed herb and flo
 wer gardens\, Tangled Garden\, is partnering with Devour! The Food Film Fe
 st to host an afternoon of luscious food\, art\, music and poetry inspired
  by Alice in Wonderland.\n\nFrom 1 p.m. and 2:30 p.m. tour and take in six
  stations of food\, wine\, art and performance. With edibles prepared by C
 hef Michael Howell\, along with beverage concoctions from Beverly McClare\
 , come prepared for a sensory adventure.
LOCATION:Tangled Garden\, 11827 Hwy 1\, Grand Pré\, NS\, B0P 1M0\, Canada
GEO:45.118835;-64.306862
X-APPLE-STRUCTURED-LOCATION;VALUE=URI;X-ADDRESS=11827 Hwy 1\, Grand Pré\, 
 NS\, B0P 1M0\, Canada;X-APPLE-RADIUS=100;X-TITLE=Tangled Garden:geo:45.118
 835,-64.306862
END:VEVENT
BEGIN:VTIMEZONE
TZID:America/Halifax
X-LIC-LOCATION:America/Halifax
BEGIN:DAYLIGHT
DTSTART:20140309T030000
TZOFFSETFROM:-0400
TZOFFSETTO:-0300
TZNAME:ADT
END:DAYLIGHT
END:VTIMEZONE
END:VCALENDAR