BEGIN:VCALENDAR
VERSION:2.0
PRODID:-//wp-events-plugin.com//7.2.3.1//EN
TZID:America/Halifax
X-WR-TIMEZONE:America/Halifax
BEGIN:VEVENT
UID:291@devourfest.com
DTSTART;TZID=America/Halifax:20161105T150000
DTEND;TZID=America/Halifax:20161105T163000
DTSTAMP:20161028T180219Z
URL:https://devourfest.com/program/an-interview-with-john-henion-producer-
 of-chefs-table/
SUMMARY:An Interview with John Henion\, Producer of Chef’s Table
DESCRIPTION:John Henion produced the first season of highly acclaimed Netfl
 ix Original documentary series\, Chef’s Table\, which profiles the art a
 nd craft of six of the world’s most innovative chefs. Devour! Jury membe
 r Steve Chagollan moderates a lively discussion with John and explores cre
 atively telling food stories through the medium of television - its  chal
 lenges and triumphs.
ATTACH;FMTTYPE=image/jpeg:https://devourfest.com/wp-content/uploads/2016/0
 9/John-Henion.jpg
LOCATION:Al Whittle Theatre\, 450 Main St\, Wolfville\, NS\, B4P 1E2\, Cana
 da
GEO:45.0915;-64.362765
X-APPLE-STRUCTURED-LOCATION;VALUE=URI;X-ADDRESS=450 Main St\, Wolfville\, N
 S\, B4P 1E2\, Canada;X-APPLE-RADIUS=100;X-TITLE=Al Whittle Theatre:geo:45.
 0915,-64.362765
END:VEVENT
BEGIN:VTIMEZONE
TZID:America/Halifax
X-LIC-LOCATION:America/Halifax
BEGIN:DAYLIGHT
DTSTART:20160313T030000
TZOFFSETFROM:-0400
TZOFFSETTO:-0300
TZNAME:ADT
END:DAYLIGHT
END:VTIMEZONE
END:VCALENDAR