BEGIN:VCALENDAR
VERSION:2.0
PRODID:-//wp-events-plugin.com//7.2.3.1//EN
TZID:America/Halifax
X-WR-TIMEZONE:America/Halifax
BEGIN:VEVENT
UID:812@devourfest.com
DTSTART;TZID=America/Halifax:20221026T110000
DTEND;TZID=America/Halifax:20221026T123000
DTSTAMP:20220923T194254Z
URL:https://devourfest.com/program/animated-shorts/
SUMMARY:Animated Shorts
DESCRIPTION:Homard au Coeur\n\nA quirky and lovable fisherman fights to kee
 p his livelihood through years of illness.\n\nCanada\, 2022\, 3 minutes\nD
 irector: Jenna Marks\n\n\n\nNosh-up\n\n“Cooking is caring\,” says my m
 other while she enthusiastically juggles pots and pans preparing a family 
 meal.\n\nPortugal\, 2022\, 12 minutes\nDirector: Mafalda Salgueiro\n\n\n\n
 Wrought\n\nA stunning visual exploration of matter in various states of mi
 crobial transformation begs fundamental questions about human cultures’ 
 complicated relationships with other species.\n\nCanada\, 2021\, 19 minute
 s\nDirectors: Joel Penner &amp\; Anna Sigrithur\n\n\n\nPrince in a Pastry 
 Shop\n\nA philosophical parable about a couple eating cakes in a cafe touc
 hes upon fundamental issues that are close to everyone: the elusiveness of
  happiness.\n\nPoland\, 2021\, 16 minutes\nDirector: Katarzyna Agopsowicz\
 n\n\n\nZoon\n\nSmall shimmering animals are in heat. A two-legged forest d
 weller encounters the lustful group. He and his companions snack on the li
 ttle creatures and soon a feast begins.\n\nGermany\, 2022\, 4 minutes\nDir
 ector: Jonatan Schwenk\n\n\n\nHardboiled\n\nFood and felonies are insepara
 ble in Hardboiled\, a stop-motion animated satire of the classic urban Ame
 rican crime drama.\n\nUSA\, 2022\, 27 minutes\nDirector: Peter Sluszka
ATTACH;FMTTYPE=image/jpeg:https://devourfest.com/wp-content/uploads/2022/0
 9/Homard-Au-Coeur.jpg
CATEGORIES:FILM
LOCATION:Al Whittle Theatre\, 450 Main St\, Wolfville\, NS\, B4P 1E2\, Cana
 da
GEO:45.0915;-64.362765
X-APPLE-STRUCTURED-LOCATION;VALUE=URI;X-ADDRESS=450 Main St\, Wolfville\, N
 S\, B4P 1E2\, Canada;X-APPLE-RADIUS=100;X-TITLE=Al Whittle Theatre:geo:45.
 0915,-64.362765
END:VEVENT
BEGIN:VTIMEZONE
TZID:America/Halifax
X-LIC-LOCATION:America/Halifax
BEGIN:DAYLIGHT
DTSTART:20220313T030000
TZOFFSETFROM:-0400
TZOFFSETTO:-0300
TZNAME:ADT
END:DAYLIGHT
END:VTIMEZONE
END:VCALENDAR