BEGIN:VCALENDAR
VERSION:2.0
PRODID:-//wp-events-plugin.com//7.2.3.1//EN
TZID:America/Halifax
X-WR-TIMEZONE:America/Halifax
BEGIN:VEVENT
UID:76@devourfest.com
DTSTART;TZID=America/Halifax:20141114T140000
DTEND;TZID=America/Halifax:20141114T170000
DTSTAMP:20140929T135100Z
URL:https://devourfest.com/program/artisan-chocolate-making-with-nicole-ev
 ans/
SUMMARY:Artisan Chocolate Making with Nicole Evans
DESCRIPTION:For true chocolate lovers. Spend the afternoon with experienced
  chocolatier\, Nicole Evans\, to learn the art of tempering chocolate and 
 some of the many ways tempered chocolate can be used. In this hands-on cla
 ss\, participants will start with a chocolate taste test and end with a sa
 mple of their own creations. Red high heels optional.\n\nNicole Evans \n\
 n\n\nNicole Evans has a life-time of experience as a chocolatier\, being i
 n the business for 29 years and counting. During this time\, she has owned
  her own shop\, has been a consultant for both new and established chocola
 te companies and fashioned unique home and corporate creations using pure 
 Swiss chocolate.  Her company\, Nicole’s Truffles and Fine Chocolate (w
 ww.nicolestruffles.com) is known for quality and imagination in both taste
 s and designs.
ATTACH;FMTTYPE=image/jpeg:https://devourfest.com/wp-content/uploads/2014/0
 9/Artisan-Chocolate-Making-Workshop-Photo.jpg
LOCATION:Huggins Science Hall\, Acadia University\, 12 University Ave\, Wol
 fville\, NS\, B4P 2R6\, Canada
GEO:45.088516;-64.367966
X-APPLE-STRUCTURED-LOCATION;VALUE=URI;X-ADDRESS=12 University Ave\, Wolfvil
 le\, NS\, B4P 2R6\, Canada;X-APPLE-RADIUS=100;X-TITLE=Huggins Science Hall
 \, Acadia University:geo:45.088516,-64.367966
END:VEVENT
BEGIN:VTIMEZONE
TZID:America/Halifax
X-LIC-LOCATION:America/Halifax
BEGIN:STANDARD
DTSTART:20141102T010000
TZOFFSETFROM:-0300
TZOFFSETTO:-0400
TZNAME:AST
END:STANDARD
END:VTIMEZONE
END:VCALENDAR