BEGIN:VCALENDAR
VERSION:2.0
PRODID:-//wp-events-plugin.com//7.2.3.1//EN
TZID:America/Halifax
X-WR-TIMEZONE:America/Halifax
BEGIN:VEVENT
UID:412@devourfest.com
DTSTART;TZID=America/Halifax:20171029T130000
DTEND;TZID=America/Halifax:20171029T150000
DTSTAMP:20170905T145652Z
URL:https://devourfest.com/program/back-to-burgundy-wthe-magical-mystery-o
 f-musigny/
SUMMARY:Back to Burgundy w/The Magical Mystery of Musigny
DESCRIPTION:Back to Burgundy\nReturning to his native Burgundy\, the heir t
 o a struggling winery looks to the past to reinvent the family business so
  that it can regain its former glory. \nFrance\, 2017\, 114 minutes\nDirec
 tor Cédric Klapisch\nDistributor MK2 Mile End\n\nScreens with:\n\nThe Mag
 ical Mystery of Musigny\nJohn has an enthusiasm for wine\, especially for 
 a particular Pinot Noir\, and attempts to convince his wife of the power o
 f wine at every turn.\nUSA\, 2017\, 3 minutes\nDirectors Emmett Goodman &a
 mp\; John Meyer\n\n&nbsp\;
ATTACH;FMTTYPE=image/jpeg:https://devourfest.com/wp-content/uploads/2017/0
 8/Back-to-Burgundy.jpeg
LOCATION:Al Whittle Theatre\, 450 Main St\, Wolfville\, NS\, B4P 1E2\, Cana
 da
GEO:45.0915;-64.362765
X-APPLE-STRUCTURED-LOCATION;VALUE=URI;X-ADDRESS=450 Main St\, Wolfville\, N
 S\, B4P 1E2\, Canada;X-APPLE-RADIUS=100;X-TITLE=Al Whittle Theatre:geo:45.
 0915,-64.362765
END:VEVENT
BEGIN:VTIMEZONE
TZID:America/Halifax
X-LIC-LOCATION:America/Halifax
BEGIN:DAYLIGHT
DTSTART:20170312T030000
TZOFFSETFROM:-0400
TZOFFSETTO:-0300
TZNAME:ADT
END:DAYLIGHT
END:VTIMEZONE
END:VCALENDAR