BEGIN:VCALENDAR
VERSION:2.0
PRODID:-//wp-events-plugin.com//7.2.3.1//EN
TZID:America/Halifax
X-WR-TIMEZONE:America/Halifax
BEGIN:VEVENT
UID:894@devourfest.com
DTSTART;TZID=America/Halifax:20231027T110000
DTEND;TZID=America/Halifax:20231027T130000
DTSTAMP:20230907T120439Z
URL:https://devourfest.com/program/bad-axe-w-from-fish-to-moon/
SUMMARY:Bad Axe w/From Fish to Moon
DESCRIPTION:Bad Axe\nA closely knit Asian-American family living in rural M
 ichigan during the pandemic fights to keep their local restaurant and Amer
 ican dream alive. With rising racial tensions\, the family must unite and 
 find their voice as they reckon with backlash from a divided community\, w
 hite supremacists\, and intergenerational trauma from Cambodia's killing f
 ields.\nUSA\, 2022\, 100 minutes\nDirector: David Siev\nDistributor: IFC F
 ilms\n\n\nFrom Fish to Moon\n“From fish to moon” is a common expressio
 n in medieval Persian verse\, meaning “from the depths to the heights”
 . In Pahokee\, Florida\, there is a grocery store\, where those who work a
 t the Thriftway arrive early\, and stay all day roaming the aisles. One of
  these employees is Jean Voltaire.\nUSA\, 2022\, 13 minutes\nDirector: Kev
 in Contento\n
ATTACH;FMTTYPE=image/jpeg:https://devourfest.com/wp-content/uploads/2023/0
 8/Bad-Axe-scaled.jpg
CATEGORIES:FILM
LOCATION:Al Whittle Theatre\, 450 Main St\, Wolfville\, NS\, B4P 1E2\, Cana
 da
GEO:45.0915;-64.362765
X-APPLE-STRUCTURED-LOCATION;VALUE=URI;X-ADDRESS=450 Main St\, Wolfville\, N
 S\, B4P 1E2\, Canada;X-APPLE-RADIUS=100;X-TITLE=Al Whittle Theatre:geo:45.
 0915,-64.362765
END:VEVENT
BEGIN:VTIMEZONE
TZID:America/Halifax
X-LIC-LOCATION:America/Halifax
BEGIN:DAYLIGHT
DTSTART:20230312T030000
TZOFFSETFROM:-0400
TZOFFSETTO:-0300
TZNAME:ADT
END:DAYLIGHT
END:VTIMEZONE
END:VCALENDAR