BEGIN:VCALENDAR
VERSION:2.0
PRODID:-//wp-events-plugin.com//7.2.3.1//EN
TZID:America/Halifax
X-WR-TIMEZONE:America/Halifax
BEGIN:VEVENT
UID:107@devourfest.com
DTSTART;TZID=America/Halifax:20141115T120000
DTEND;TZID=America/Halifax:20141115T134500
DTSTAMP:20140924T200124Z
URL:https://devourfest.com/program/beautiful-krista-wneals-yard-dairy/
SUMMARY:Beautiful Krista w/Neal's Yard Dairy
DESCRIPTION:Beautiful Krista (Die schöne Krista)\n\nMeet Krista. She is be
 autiful. So beautiful that she’s in the running to become Germany’s ne
 xt top model. Did we happen to mention that Krista just so happens to be a
  cow? Follow the ups and downs of Krista’s career as one of Europe’s m
 ost gorgeous dairy cows.\n\nGermany\, 2013\, 91 minutes\nDirector Antje Sc
 hneider &amp\; Carsten Waldbauer\nDistributor Lichtblick Film\n\nNeal’s 
 Yard Dairy\n\n\n\nAffinage is the ageing and refinement of cheese. At Neal
 ’s Yard Dairy\, the refinement starts as soon as you walk in the door\, 
 whether you’re a person or cheese.\n\nUSA/UK\, 2014\, 8 minutes\nDirecto
 rs Daniel Klein &amp\; Mirra Fine\, The Perennial Plate\nDistributor Mode
  Media\, co-produced by Foodie TV
ATTACH;FMTTYPE=image/jpeg:https://devourfest.com/wp-content/uploads/2014/0
 9/20147695_1_IMG_543x305.jpg
LOCATION:Al Whittle Theatre\, 450 Main St\, Wolfville\, NS\, B4P 1E2\, Cana
 da
GEO:45.0915;-64.362765
X-APPLE-STRUCTURED-LOCATION;VALUE=URI;X-ADDRESS=450 Main St\, Wolfville\, N
 S\, B4P 1E2\, Canada;X-APPLE-RADIUS=100;X-TITLE=Al Whittle Theatre:geo:45.
 0915,-64.362765
END:VEVENT
BEGIN:VTIMEZONE
TZID:America/Halifax
X-LIC-LOCATION:America/Halifax
BEGIN:STANDARD
DTSTART:20141102T010000
TZOFFSETFROM:-0300
TZOFFSETTO:-0400
TZNAME:AST
END:STANDARD
END:VTIMEZONE
END:VCALENDAR