BEGIN:VCALENDAR
VERSION:2.0
PRODID:-//wp-events-plugin.com//7.2.3.1//EN
TZID:America/Halifax
X-WR-TIMEZONE:America/Halifax
BEGIN:VEVENT
UID:319@devourfest.com
DTSTART;TZID=America/Halifax:20161103T100000
DTEND;TZID=America/Halifax:20161103T170000
DTSTAMP:20161027T190751Z
URL:https://devourfest.com/program/benjamin-bridge-doors-open-for-devour-2
 /
SUMMARY:Benjamin Bridge (Doors Open For Devour!)
DESCRIPTION:For Devour! only\, Benjamin Bridge is opening its doors\, no ap
 pointment needed. Drop in to the beautiful tasting room\, just over the hi
 ll from Wolfville in the picturesque Gaspereau Valley. Taste the wines bei
 ng talked about across the country by joining a barrel tasting - a short\,
  introductory tasting and tour by a knowledgeable member of the BB team. A
 llow 30-45 minutes\; $12 per person\, 3 wines. www.benjaminbridge.com\n\nT
 he winery is not signed at the driveway\, so look for the slate marker on 
 the south side that reads "1842". Follow the long driveway up around the h
 eritage barn and down to the winery building.
ATTACH;FMTTYPE=image/jpeg:https://devourfest.com/wp-content/uploads/2016/1
 0/Devour-image-2016-v2-scaled.jpg
LOCATION:Benjamin Bridge\, 1966 White Rock Road\, Wolfville\, Nova Scotia\,
  B4P 2R1 \, Canada
GEO:45.066416;-64.374152
X-APPLE-STRUCTURED-LOCATION;VALUE=URI;X-ADDRESS=1966 White Rock Road\, Wolf
 ville\, Nova Scotia\, B4P 2R1 \, Canada;X-APPLE-RADIUS=100;X-TITLE=Benjami
 n Bridge:geo:45.066416,-64.374152
END:VEVENT
BEGIN:VTIMEZONE
TZID:America/Halifax
X-LIC-LOCATION:America/Halifax
BEGIN:DAYLIGHT
DTSTART:20160313T030000
TZOFFSETFROM:-0400
TZOFFSETTO:-0300
TZNAME:ADT
END:DAYLIGHT
END:VTIMEZONE
END:VCALENDAR