BEGIN:VCALENDAR
VERSION:2.0
PRODID:-//wp-events-plugin.com//7.2.3.1//EN
TZID:America/Halifax
X-WR-TIMEZONE:America/Halifax
BEGIN:VEVENT
UID:495@devourfest.com
DTSTART;TZID=America/Halifax:20181027T110000
DTEND;TZID=America/Halifax:20181027T130000
DTSTAMP:20181009T225302Z
URL:https://devourfest.com/program/beyond-terroir/
SUMMARY:Beyond Terroir
DESCRIPTION:Since time immemorial\, the Mi’kmaq have harvested\, foraged\
 , gathered\, hunted\, prepared and consumed food on their traditional terr
 itory of Mi'kmaki (Nova Scotia). In search of the deepest roots of the Gas
 pereau Valley\, Benjamin Bridge invites guests to its vineyards to learn a
 bout the pre-European history of the area and experience Mi’kmaq food tr
 aditions. In partnership with the Glooscap First Nation\, this unique even
 t will consist of interactive food and wine pairing stations that feature 
 the culinary collaborations of Mi’kmaq chef Kari Rose Lameman and Chef B
 lair Lebsack and filmmaker Kevin Kossowan\n\n$85 per guest\, includes food
  &amp\; drink pairings
ATTACH;FMTTYPE=image/jpeg:https://devourfest.com/wp-content/uploads/2018/0
 9/Beyond-Terroir-cropped-e1539702310258.jpeg
LOCATION:Benjamin Bridge\, 1966 White Rock Road\, Wolfville\, Nova Scotia\,
  B4P 2R1 \, Canada
GEO:45.066416;-64.374152
X-APPLE-STRUCTURED-LOCATION;VALUE=URI;X-ADDRESS=1966 White Rock Road\, Wolf
 ville\, Nova Scotia\, B4P 2R1 \, Canada;X-APPLE-RADIUS=100;X-TITLE=Benjami
 n Bridge:geo:45.066416,-64.374152
END:VEVENT
BEGIN:VTIMEZONE
TZID:America/Halifax
X-LIC-LOCATION:America/Halifax
BEGIN:DAYLIGHT
DTSTART:20180311T030000
TZOFFSETFROM:-0400
TZOFFSETTO:-0300
TZNAME:ADT
END:DAYLIGHT
END:VTIMEZONE
END:VCALENDAR