BEGIN:VCALENDAR
VERSION:2.0
PRODID:-//wp-events-plugin.com//7.2.3.1//EN
TZID:America/Halifax
X-WR-TIMEZONE:America/Halifax
BEGIN:VEVENT
UID:857@devourfest.com
DTSTART;TZID=America/Halifax:20221030T130000
DTEND;TZID=America/Halifax:20221030T140000
DTSTAMP:20220925T200426Z
URL:https://devourfest.com/program/biocyclic-vegan-wines-w-bruce-ewert-onl
 ine/
SUMMARY:Biocyclic Vegan Wines w/Bruce Ewert - ONLINE
DESCRIPTION:L'Acadie Vineyards proprietor and winemaker Bruce Ewert gives u
 s a tasting and workshop exploring the organic wines and terroir of his Ga
 spereau Valley winery—the first certified Biocyclic Vegan winery in Nort
 h America.\n\nTicket Price: $10.00 online\nMust be 19+ to attend in-person
 \n\nSponsored by L’Acadie Vineyards\, Russell Hendrix\, Windsor Home Fur
 niture\, and Bosch Canada\n\nBruce Ewert – Founder and Winemaker\, L’A
 cadie Vineyards\, Gaspereau\, Nova Scotia\nBruce Ewert is an award-winning
  BC-born sparkling winemaker with over 35 years experience mainly in BC\, 
 and also Ontario\, California\, Australia and now Nova Scotia. He and NS-b
 orn Pauline Scott established L’Acadie Vineyards in 2004\, a certified O
 rganic and Biocyclic Vegan vineyard and winery in Gaspereau Valley\, Nova 
 Scotia\, distinguished for releasing the region’s first traditional meth
 od sparkling wines.  Key accolades include top-scoring sparkling wine at 
 the Canadian Wine Awards\, three awards at Decanter World Wine Awards in E
 ngland and two medals at Effervescents du Monde in France. @professor_bubb
 ly @lacadiewine
ATTACH;FMTTYPE=image/jpeg:https://devourfest.com/wp-content/uploads/2022/0
 9/New-Project.jpg
CATEGORIES:WORKSHOP
LOCATION:Online\, Online\,  \, Online\, Online\, Online\, Canada
GEO:43.808785;-79.334046
X-APPLE-STRUCTURED-LOCATION;VALUE=URI;X-ADDRESS=Online\,  \, Online\, Onlin
 e\, Online\, Canada;X-APPLE-RADIUS=100;X-TITLE=Online:geo:43.808785,-79.33
 4046
END:VEVENT
BEGIN:VTIMEZONE
TZID:America/Halifax
X-LIC-LOCATION:America/Halifax
BEGIN:DAYLIGHT
DTSTART:20220313T030000
TZOFFSETFROM:-0400
TZOFFSETTO:-0300
TZNAME:ADT
END:DAYLIGHT
END:VTIMEZONE
END:VCALENDAR