BEGIN:VCALENDAR
VERSION:2.0
PRODID:-//wp-events-plugin.com//7.2.3.1//EN
TZID:America/Halifax
X-WR-TIMEZONE:America/Halifax
BEGIN:VEVENT
UID:968@devourfest.com
DTSTART;TZID=America/Halifax:20241026T150000
DTEND;TZID=America/Halifax:20241026T163000
DTSTAMP:20241022T132330Z
URL:https://devourfest.com/program/bishops-cellar-wine-workshop-w-alanna-m
 cintyre/
SUMMARY:Wine Workshop: Innovative Regions and Local Changemakers w/Alanna M
 cIntyre
DESCRIPTION:Join Bishop’s Cellar Sommelier\, Alanna McIntyre\, for an aft
 ernoon of education and tasting featuring wines from around the globe and 
 right here at home. Prepare to be captivated as Alanna shares her insights
  on how vignerons from various corners of the world overcome the challenge
 s of an ever-fluctuating climate. \n\nFrom the crisp and refreshing wines
  of our local cool-climate region to the bold and concentrated wines from 
 desert climates\, each glass will offer a window into these exceptional wi
 nes' dynamic and expressive nature.\n\nWhether you're a seasoned connoisse
 ur or just starting to explore the world of wine\, this afternoon is an op
 portunity to deepen your knowledge\, refine your palate\, and discover new
  favourites.\n\nTicket Price: $50.00\, includes wine samples\nSponsored by
  Bishop’s Cellar\nMust be 19+ to attend in-person\n\nAlanna McIntyre\n\n
 Alanna McIntyre joined Bishop’s Cellar in its early stages\, infusing he
 r warmth and extensive wine expertise into various roles within the compan
 y's retail and operations teams. Her entry into the wine industry stemmed 
 from her passion for art\, culture\, food\, and romance languages\, furthe
 r fueled by her experiences in France\, Spain\, and Italy. Inspired by her
  father’s vineyard venture in the Annapolis Valley\, McIntyre gained a p
 rofound appreciation for wine producers. Certified as a sommelier since 20
 02 and holding the WSET Level 3 Award in Wine &amp\; Spirits\, she combine
 s her diverse experiences to enrich the wine community and elevate the enj
 oyment of fine wines. @alanna.mcintyre @bishopscellar 
ATTACH;FMTTYPE=image/jpeg:https://devourfest.com/wp-content/uploads/2024/0
 9/Alanna-McIntyre.jpeg
CATEGORIES:WORKSHOP
LOCATION:Devour! Studios C\, 360 Main Street\, Wolfville\, Nova Scotia\, B4
 P1C4\, Canada
GEO:45.091942;-64.359045
X-APPLE-STRUCTURED-LOCATION;VALUE=URI;X-ADDRESS=360 Main Street\, Wolfville
 \, Nova Scotia\, B4P1C4\, Canada;X-APPLE-RADIUS=100;X-TITLE=Devour! Studio
 s C:geo:45.091942,-64.359045
END:VEVENT
BEGIN:VTIMEZONE
TZID:America/Halifax
X-LIC-LOCATION:America/Halifax
BEGIN:DAYLIGHT
DTSTART:20240310T030000
TZOFFSETFROM:-0400
TZOFFSETTO:-0300
TZNAME:ADT
END:DAYLIGHT
END:VTIMEZONE
END:VCALENDAR