BEGIN:VCALENDAR
VERSION:2.0
PRODID:-//wp-events-plugin.com//7.2.3.1//EN
TZID:America/Halifax
X-WR-TIMEZONE:America/Halifax
BEGIN:VEVENT
UID:992@devourfest.com
DTSTART;TZID=America/Halifax:20251022T150000
DTEND;TZID=America/Halifax:20251022T170000
DTSTAMP:20250904T110706Z
URL:https://devourfest.com/program/blank-plate-creating-the-best-restauran
 t-in-the-world-w-abcs-of-oysters/
SUMMARY:Blank Plate: Creating the Best Restaurant in the World w/ABCs of Oy
 sters
DESCRIPTION:Blank Plate: Creating the Best Restaurant in the World\nBlank P
 late: Creating the Best Restaurant in the World chronicles the inspiring j
 ourney of Disfrutar\, revealing how chefs Eduard Xatruch\, Mateu Casañas\
 , and Oriol Castro rose from the renowned El Bulli to culinary greatness. 
 This film explores their intense passion\, personal sacrifices\, and the e
 motional artistry behind each exquisite dish.\nSpain\, 2025\, 60 minutes\n
 Directors Alan Fàbregas\, Ramon Pardina\nDistributor Java Films\n\nABCs o
 f Oysters \n\nProudly Nova Scotian\, first-generation oyster farmers Trev
 or and Michelle leave corporate jobs to pursue their passion on Sober Isla
 nd. They transform their love for the land into a sustainable oyster farmi
 ng success story that enriches Nova Scotia’s culinary landscape and ocea
 n ecosystem.\nCanada\, 2025\, 15 minutes\nDirector Rachel Bower\n
ATTACH;FMTTYPE=image/jpeg:https://devourfest.com/wp-content/uploads/2025/0
 8/Blank-Plate-Creating-the-Best-Restaurant-in-the-World.jpeg
CATEGORIES:FILM
LOCATION:Al Whittle Theatre\, 450 Main St\, Wolfville\, NS\, B4P 1E2\, Cana
 da
GEO:45.0915;-64.362765
X-APPLE-STRUCTURED-LOCATION;VALUE=URI;X-ADDRESS=450 Main St\, Wolfville\, N
 S\, B4P 1E2\, Canada;X-APPLE-RADIUS=100;X-TITLE=Al Whittle Theatre:geo:45.
 0915,-64.362765
END:VEVENT
BEGIN:VTIMEZONE
TZID:America/Halifax
X-LIC-LOCATION:America/Halifax
BEGIN:DAYLIGHT
DTSTART:20250309T030000
TZOFFSETFROM:-0400
TZOFFSETTO:-0300
TZNAME:ADT
END:DAYLIGHT
END:VTIMEZONE
END:VCALENDAR