BEGIN:VCALENDAR
VERSION:2.0
PRODID:-//wp-events-plugin.com//7.2.3.1//EN
TZID:America/Halifax
X-WR-TIMEZONE:America/Halifax
BEGIN:VEVENT
UID:826@devourfest.com
DTSTART;TZID=America/Halifax:20221027T200000
DTEND;TZID=America/Halifax:20221027T220000
DTSTAMP:20221001T191841Z
URL:https://devourfest.com/program/blind-ambition-w-same-old/
SUMMARY:Blind Ambition w/Same Old
DESCRIPTION:Having escaped starvation and tyranny in their homeland of Zimb
 abwe\, four refugees have conquered the odds to become South Africa’s to
 p sommeliers. Driven by relentless optimism\, a passion for their craft\, 
 and unshakeable national pride\, they form Zimbabwe’s first-ever wine ta
 sting team and set their sights on the coveted title of “World Wine-Tast
 ing Champions”. From the moment they arrive in France to compete\, this 
 team of mavericks turns an establishment of privilege and tradition on its
  head.\n\nAustralia\, 2021\, 96 minutes\nDirectors: Warwick Ross &amp\; Ro
 b Coe\nDistributor: levelFILM\n\n\n\nSame Old\n\nLu is a Chinese immigrant
  living day-to-day on tips from his job as a delivery worker. One night\, 
 his e-bike — and his lifeline — are stolen from him.\n\nUSA\, 2021\, 1
 0 minutes\nDirector Lloyd Lee Choi\n\nSponsored by L'Acadie Vineyards and 
 EOS Natural Foods
ATTACH;FMTTYPE=image/jpeg:https://devourfest.com/wp-content/uploads/2022/0
 9/Blind-Ambition.jpg
CATEGORIES:FILM
LOCATION:Al Whittle Theatre\, 450 Main St\, Wolfville\, NS\, B4P 1E2\, Cana
 da
GEO:45.0915;-64.362765
X-APPLE-STRUCTURED-LOCATION;VALUE=URI;X-ADDRESS=450 Main St\, Wolfville\, N
 S\, B4P 1E2\, Canada;X-APPLE-RADIUS=100;X-TITLE=Al Whittle Theatre:geo:45.
 0915,-64.362765
END:VEVENT
BEGIN:VTIMEZONE
TZID:America/Halifax
X-LIC-LOCATION:America/Halifax
BEGIN:DAYLIGHT
DTSTART:20220313T030000
TZOFFSETFROM:-0400
TZOFFSETTO:-0300
TZNAME:ADT
END:DAYLIGHT
END:VTIMEZONE
END:VCALENDAR