BEGIN:VCALENDAR
VERSION:2.0
PRODID:-//wp-events-plugin.com//7.2.3.1//EN
TZID:America/Halifax
X-WR-TIMEZONE:America/Halifax
BEGIN:VEVENT
UID:116@devourfest.com
DTSTART;TZID=America/Halifax:20141115T183000
DTEND;TZID=America/Halifax:20141115T201500
DTSTAMP:20140922T114244Z
URL:https://devourfest.com/program/brasserie-romantique-wdeath-by-omelette
 /
SUMMARY:Brasserie Romantique w/Death by Omelette
DESCRIPTION:Brasserie Romantique (Brasserie Romantiek)\n\nThis film has eve
 rything a romantic foodie could want: romance and food. And lots of it. Br
 asserie Romantique shows the inner workings of a busy restaurant on Valent
 ine’s Day\, complicated by the return of the owner’s long lost lover a
 nd a dining room full of characters with their own drama.\n\nBelgium\, 201
 3\, 102 minutes\nDirector Joël Vanhoebrouck\nDistributor Cinemavault Rele
 asing\n\nDeath by Omelette\n\n\n\nWhen her husband receives a sexy text fr
 om an unknown sender\, a young woman changes her focus from a romantic din
 ner to a killer breakfast.\n\nUSA\, 2012\, 8 minutes\nDirector Greg Emetaz
 \nDistributor MINORapocalypse\n\nSpecial Note: Brasserie Romantique will i
 nspire a dinner by Chef Connie DeSousa (Charcut) and Chef Renée Lavallée
  (The Feisty Chef) at Troy Restaurant following the screening.
ATTACH;FMTTYPE=image/jpeg:https://devourfest.com/wp-content/uploads/2014/0
 9/Brasserie-Romantique.jpg
LOCATION:Al Whittle Theatre\, 450 Main St\, Wolfville\, NS\, B4P 1E2\, Cana
 da
GEO:45.0915;-64.362765
X-APPLE-STRUCTURED-LOCATION;VALUE=URI;X-ADDRESS=450 Main St\, Wolfville\, N
 S\, B4P 1E2\, Canada;X-APPLE-RADIUS=100;X-TITLE=Al Whittle Theatre:geo:45.
 0915,-64.362765
END:VEVENT
BEGIN:VTIMEZONE
TZID:America/Halifax
X-LIC-LOCATION:America/Halifax
BEGIN:STANDARD
DTSTART:20141102T010000
TZOFFSETFROM:-0300
TZOFFSETTO:-0400
TZNAME:AST
END:STANDARD
END:VTIMEZONE
END:VCALENDAR