BEGIN:VCALENDAR
VERSION:2.0
PRODID:-//wp-events-plugin.com//7.2.3.1//EN
TZID:America/Halifax
X-WR-TIMEZONE:America/Halifax
BEGIN:VEVENT
UID:163@devourfest.com
DTSTART;TZID=America/Halifax:20151105T180000
DTEND;TZID=America/Halifax:20151105T193000
DTSTAMP:20151008T035734Z
URL:https://devourfest.com/program/bubbly-workshop/
SUMMARY:Bubbly Workshop
DESCRIPTION:We are all about the bubbles. Last year\, the talented sommelie
 rs from Bishop’s Cellar took us on a tour through one of France’s most
  distinctive wine regions in support of the screening of A Year in Burgund
 y. This year they return to focus in on the world’s most exclusive champ
 agne houses to get you primed for the next film in the series\, A Year in 
 Champagne.\n\nNote: This activity is restricted to 19 years of age and old
 er.
ATTACH;FMTTYPE=image/jpeg:https://devourfest.com/wp-content/uploads/2015/0
 9/BB-Brooklyn-76.jpeg
LOCATION:Al Whittle Theatre - Studio Z\, 450 Main St\, Wolfville\, NS\, B4P
  1E2\, Canada
GEO:45.091618;-64.362640
X-APPLE-STRUCTURED-LOCATION;VALUE=URI;X-ADDRESS=450 Main St\, Wolfville\, N
 S\, B4P 1E2\, Canada;X-APPLE-RADIUS=100;X-TITLE=Al Whittle Theatre - Studi
 o Z:geo:45.091618,-64.362640
END:VEVENT
BEGIN:VTIMEZONE
TZID:America/Halifax
X-LIC-LOCATION:America/Halifax
BEGIN:STANDARD
DTSTART:20151101T010000
TZOFFSETFROM:-0300
TZOFFSETTO:-0400
TZNAME:AST
END:STANDARD
END:VTIMEZONE
END:VCALENDAR