BEGIN:VCALENDAR
VERSION:2.0
PRODID:-//wp-events-plugin.com//7.2.3.1//EN
TZID:America/Halifax
X-WR-TIMEZONE:America/Halifax
BEGIN:VEVENT
UID:277@devourfest.com
DTSTART;TZID=America/Halifax:20161104T200000
DTEND;TZID=America/Halifax:20161104T213000
DTSTAMP:20160918T144103Z
URL:https://devourfest.com/program/bugs-wred-end-and-the-factory-plant/
SUMMARY:BUGS w/Red-end and the Factory Plant
DESCRIPTION:BUGS\n\nBen and Josh\, two young chefs-turned-scientists\, want
  to save the world and are willing to crisscross the globe to get a taste 
 of every bug known to man in an effort to do so. A gastronomic adventure f
 rom René Redzepi’s experimental Nordic Food Lab (Noma) that has its pro
 tagonists willingly and\, often giddyingly\, getting bitten and stung in p
 ursuit of this elusive new protein. \n\nDenmark\, 2016\, 75 minutes\n\nDir
 ector Andreas Johnsen\n\nDistributor Kinosmith\n\n\n\nRed-end and the Fact
 ory Plant\n\nBugs against the machine! \n\nThe Netherlands\, 2016\, 15 min
 utes\n\nDirectors Robin Noorda\, Bethany de Forest\n\n
ATTACH;FMTTYPE=image/jpeg:https://devourfest.com/wp-content/uploads/2016/0
 9/BUGS.jpg
LOCATION:Al Whittle Theatre\, 450 Main St\, Wolfville\, NS\, B4P 1E2\, Cana
 da
GEO:45.0915;-64.362765
X-APPLE-STRUCTURED-LOCATION;VALUE=URI;X-ADDRESS=450 Main St\, Wolfville\, N
 S\, B4P 1E2\, Canada;X-APPLE-RADIUS=100;X-TITLE=Al Whittle Theatre:geo:45.
 0915,-64.362765
END:VEVENT
BEGIN:VTIMEZONE
TZID:America/Halifax
X-LIC-LOCATION:America/Halifax
BEGIN:DAYLIGHT
DTSTART:20160313T030000
TZOFFSETFROM:-0400
TZOFFSETTO:-0300
TZNAME:ADT
END:DAYLIGHT
END:VTIMEZONE
END:VCALENDAR