BEGIN:VCALENDAR
VERSION:2.0
PRODID:-//wp-events-plugin.com//7.2.3.1//EN
TZID:America/Halifax
X-WR-TIMEZONE:America/Halifax
BEGIN:VEVENT
UID:306@devourfest.com
DTSTART;TZID=America/Halifax:20161106T130000
DTEND;TZID=America/Halifax:20161106T143000
DTSTAMP:20160918T145939Z
URL:https://devourfest.com/program/cafe-nagler-wbacon-gods-wrath/
SUMMARY:Café Nagler w/Bacon & God's Wrath
DESCRIPTION:Café Nagler \n\nSometimes you need to stretch the truth a litt
 le bit when you’re tracing your roots. Much to the excitement of her gra
 ndmother\, filmmaker Mor Kaplansky journeys to modern-day Berlin to get th
 e real story behind one of the city’s hottest cafés in the 1920s\, Caf
 é Nagler\, owned by her family. In this delightful doc\, equal parts hila
 rious to equal parts poignant\, history has a way of revealing its own spe
 cial truths. \n\nIsrael/Germany\, 2016\, 59 minutes\n\nDirector Mor Kaplan
 sky\n\nDistributor Go2Films\n\n\n\nBacon &amp\; God’s Wrath\n\nAn elderl
 y Jewish woman decides to break kosher law\, and eat bacon for the first t
 ime.\n\nCanada\, 2015\, 9 minutes\n\nDirector Sol Friedman\n\n
ATTACH;FMTTYPE=image/jpeg:https://devourfest.com/wp-content/uploads/2016/0
 9/Café-Nagler.jpg
LOCATION:Al Whittle Theatre\, 450 Main St\, Wolfville\, NS\, B4P 1E2\, Cana
 da
GEO:45.0915;-64.362765
X-APPLE-STRUCTURED-LOCATION;VALUE=URI;X-ADDRESS=450 Main St\, Wolfville\, N
 S\, B4P 1E2\, Canada;X-APPLE-RADIUS=100;X-TITLE=Al Whittle Theatre:geo:45.
 0915,-64.362765
END:VEVENT
BEGIN:VTIMEZONE
TZID:America/Halifax
X-LIC-LOCATION:America/Halifax
BEGIN:STANDARD
DTSTART:20161106T010000
TZOFFSETFROM:-0300
TZOFFSETTO:-0400
TZNAME:AST
END:STANDARD
END:VTIMEZONE
END:VCALENDAR