BEGIN:VCALENDAR
VERSION:2.0
PRODID:-//wp-events-plugin.com//7.2.3.1//EN
TZID:America/Halifax
X-WR-TIMEZONE:America/Halifax
BEGIN:VEVENT
UID:371@devourfest.com
DTSTART;TZID=America/Halifax:20171027T140000
DTEND;TZID=America/Halifax:20171027T153000
DTSTAMP:20170916T151222Z
URL:https://devourfest.com/program/chardonn-yay-workshop/
SUMMARY:Chardonn-YAY Workshop
DESCRIPTION:From Chablis to Côte d'Or\, California to Canada\, experience 
 the great Chardonnay with your friends at Bishop’s Cellar. Taste and lea
 rn more about the wines produced by this personality-filled and flexible g
 rape\, from famous Chardonnay producing regions like Burgundy to wineries 
 right here in our own backyard!\n\n\n\nKathryn Harding\n\nKathryn Harding 
 is retail manager at Bishop’s Cellar and CAPS-certified sommelier. When 
 you step into the retail store\, there is a pretty good chance you’ll fi
 nd Kathryn creating amazing wine experiences for Bishop’s Cellar custome
 rs. As retail manager\, her day-to-day work includes providing wine educat
 ion\, developing pairings\, and planning for the store’s future. Chardon
 nay is Kathryn’s grape of choice - at home and abroad!\n\n&nbsp\;
ATTACH;FMTTYPE=image/jpeg:https://devourfest.com/wp-content/uploads/2017/0
 8/Wine-Workshop-TBD-2.jpg
LOCATION:Lightfoot & Wolfville Winery\, 11143 Evangeline Trail\, Wolfville\
 , Nova Scotia\, B4P 2R1\, Canada
GEO:45.094513;-64.33548710000002
X-APPLE-STRUCTURED-LOCATION;VALUE=URI;X-ADDRESS=11143 Evangeline Trail\, Wo
 lfville\, Nova Scotia\, B4P 2R1\, Canada;X-APPLE-RADIUS=100;X-TITLE=Lightf
 oot & Wolfville Winery:geo:45.094513,-64.33548710000002
END:VEVENT
BEGIN:VTIMEZONE
TZID:America/Halifax
X-LIC-LOCATION:America/Halifax
BEGIN:DAYLIGHT
DTSTART:20170312T030000
TZOFFSETFROM:-0400
TZOFFSETTO:-0300
TZNAME:ADT
END:DAYLIGHT
END:VTIMEZONE
END:VCALENDAR