BEGIN:VCALENDAR
VERSION:2.0
PRODID:-//wp-events-plugin.com//7.2.3.1//EN
TZID:America/Halifax
X-WR-TIMEZONE:America/Halifax
BEGIN:VEVENT
UID:728@devourfest.com
DTSTART;TZID=America/Halifax:20211021T173000
DTEND;TZID=America/Halifax:20211021T185000
DTSTAMP:20211009T115603Z
URL:https://devourfest.com/program/chiliheads-w-have-you-eaten-online/
SUMMARY:Chiliheads w/Have You Eaten? - ONLINE
DESCRIPTION:Chiliheads\nA journey as playful as it is evocative\, Chilihead
 s takes us on the hot pepper road to five countries—Canada\, the United 
 States\, Mexico\, Trinidad and Tobago\, and India—to meet those lovers o
 f hot peppers\, AKA “chiliheads”\, to discover their culture and the s
 ub-culture that surrounds the consumption of this unique spicy fruit.\nCan
 ada\, 2021\, 74 minutes\nDirector: Julien Fréchette\nDistributor: Film Op
 tion International\nAvailable online for Canadian viewers.\n\nHave You Eat
 en?\n\nLiving in Toronto\, Lina Li returns to the comfort of home in Thorn
 hill and her mother's cooking. In this candid short\, the two engage in an
  intimate conversation about immigration to Canada\, misunderstandings\, l
 ove\, and the taste of home.\nCanada\, 2020\, 5 minutes\nDirector Lina Li\
 n\nSponsored by the Dairy Farmers of Canada
ATTACH;FMTTYPE=image/jpeg:https://devourfest.com/wp-content/uploads/2021/0
 9/Chiliheads-scaled.jpg
LOCATION:Online\, Online\,  \, Online\, Online\, Online\, Canada
GEO:43.808785;-79.334046
X-APPLE-STRUCTURED-LOCATION;VALUE=URI;X-ADDRESS=Online\,  \, Online\, Onlin
 e\, Online\, Canada;X-APPLE-RADIUS=100;X-TITLE=Online:geo:43.808785,-79.33
 4046
END:VEVENT
BEGIN:VTIMEZONE
TZID:America/Halifax
X-LIC-LOCATION:America/Halifax
BEGIN:DAYLIGHT
DTSTART:20210314T030000
TZOFFSETFROM:-0400
TZOFFSETTO:-0300
TZNAME:ADT
END:DAYLIGHT
END:VTIMEZONE
END:VCALENDAR