BEGIN:VCALENDAR
VERSION:2.0
PRODID:-//wp-events-plugin.com//7.2.3.1//EN
TZID:America/Halifax
X-WR-TIMEZONE:America/Halifax
BEGIN:VEVENT
UID:763@devourfest.com
DTSTART;TZID=America/Halifax:20211024T110000
DTEND;TZID=America/Halifax:20211024T124500
DTSTAMP:20211018T014558Z
URL:https://devourfest.com/program/clean-hands-w-ulu-in-person/
SUMMARY:Clean Hands w/Ulu - IN PERSON
DESCRIPTION:Clean Hands\nShot over the course of seven years\, Clean Hands 
 is a multi-award-winning account of a family who live and work in Central 
 America’s largest garbage dump\, La Chureca. The four children\, unlike 
 their parents\, don’t fully grasp what they don’t have. When a generou
 s philanthropist steps in\, will the family be able to escape the desolati
 on and dead-end life they are accustomed to?\nUSA/Nicaragua\, 2019\, 98 mi
 nutes\n\nUlu\n\nAfter catching a fish with a spear\, handyman Tommy Kudluk
  makes an ulu\, a traditional knife used by Inuit women. He can now enjoy 
 freshly caught Arctic Char with his wife\, Maggie.\nCanada\, 2019\, 5 minu
 tes\, Nation: Inuit\nDirector Tommy Kudluk\n\nIn keeping with Nova Scotia 
 provincial health regulations and a desire to keep all our guests safe and
  healthy\, Devour! will require proof of full Covid-19 vaccine immunizatio
 n along with a valid photo ID upon entry to all events with no exceptions.
  For all Devour! Covid Protocols\, please visit our website.
ATTACH;FMTTYPE=image/jpeg:https://devourfest.com/wp-content/uploads/2021/0
 9/Clean-Hands.jpg
LOCATION:Al Whittle Theatre\, 450 Main St\, Wolfville\, NS\, B4P 1E2\, Cana
 da
GEO:45.0915;-64.362765
X-APPLE-STRUCTURED-LOCATION;VALUE=URI;X-ADDRESS=450 Main St\, Wolfville\, N
 S\, B4P 1E2\, Canada;X-APPLE-RADIUS=100;X-TITLE=Al Whittle Theatre:geo:45.
 0915,-64.362765
END:VEVENT
BEGIN:VTIMEZONE
TZID:America/Halifax
X-LIC-LOCATION:America/Halifax
BEGIN:DAYLIGHT
DTSTART:20210314T030000
TZOFFSETFROM:-0400
TZOFFSETTO:-0300
TZNAME:ADT
END:DAYLIGHT
END:VTIMEZONE
END:VCALENDAR