BEGIN:VCALENDAR
VERSION:2.0
PRODID:-//wp-events-plugin.com//7.2.3.1//EN
TZID:America/Halifax
X-WR-TIMEZONE:America/Halifax
BEGIN:VEVENT
UID:864@devourfest.com
DTSTART;TZID=America/Halifax:20221030T200000
DTEND;TZID=America/Halifax:20221030T221500
DTSTAMP:20221001T193425Z
URL:https://devourfest.com/program/closing-gala-film-the-kitchen-brigade-w
 -the-best-chef-in-the-world/
SUMMARY:Closing Gala Film: The Kitchen Brigade w/The Best Chef in the World
DESCRIPTION:Cathy\, a headstrong 40-year-old sous chef\, is finally about t
 o fulfill her lifelong dream by opening her own restaurant. But nothing go
 es as planned. Facing serious financial difficulties\, she reluctantly acc
 epts a job in the cafeteria of a shelter for young migrants\, run by Loren
 zo. While she’s frustrated by her new position\, Cathy’s skills and pa
 ssion for cuisine start to change the kids’ lives. And they also have a 
 lot to teach her...\n\nFrance\, 2021\, 97 minutes\nDirector: Louis-Julien 
 Petit\nDistributor: A-Z Films\n\n\n\nThe Best Chef in the World\n\nAt a ti
 me before celebrity chefs\, home-cook Sally Schmitt was reinventing the wa
 y Californians eat. Opening The French Laundry in 1978\, Schmitt paved the
  way for California’s renowned organic and local palate. She may be the 
 mother of California cuisine\, but to her family\, Sally Schmitt is the be
 st chef in the world.\n\nUSA\, 2022\, 20 minutes\nDirector: Ben Proudfoot\
 n\nSponsored by the Consulat général de France à Moncton and Alliance F
 rançaise
ATTACH;FMTTYPE=image/jpeg:https://devourfest.com/wp-content/uploads/2022/0
 9/The-Kitchen-Brigade.jpg
CATEGORIES:FILM
LOCATION:Al Whittle Theatre\, 450 Main St\, Wolfville\, NS\, B4P 1E2\, Cana
 da
GEO:45.0915;-64.362765
X-APPLE-STRUCTURED-LOCATION;VALUE=URI;X-ADDRESS=450 Main St\, Wolfville\, N
 S\, B4P 1E2\, Canada;X-APPLE-RADIUS=100;X-TITLE=Al Whittle Theatre:geo:45.
 0915,-64.362765
END:VEVENT
BEGIN:VTIMEZONE
TZID:America/Halifax
X-LIC-LOCATION:America/Halifax
BEGIN:DAYLIGHT
DTSTART:20220313T030000
TZOFFSETFROM:-0400
TZOFFSETTO:-0300
TZNAME:ADT
END:DAYLIGHT
END:VTIMEZONE
END:VCALENDAR