BEGIN:VCALENDAR
VERSION:2.0
PRODID:-//wp-events-plugin.com//7.2.3.1//EN
TZID:America/Halifax
X-WR-TIMEZONE:America/Halifax
BEGIN:VEVENT
UID:313@devourfest.com
DTSTART;TZID=America/Halifax:20161106T170000
DTEND;TZID=America/Halifax:20161106T183000
DTSTAMP:20160918T150945Z
URL:https://devourfest.com/program/closing-gala-noma-my-perfect-storm-wunb
 roken-ground/
SUMMARY:Closing Gala: Noma: My Perfect Storm w/Unbroken Ground
DESCRIPTION:Noma: My Perfect Storm\n\n“The best restaurant in the world.
 ” This is the refrain that followed Réné Redzepi\, sung by customers w
 ho flocked from around the world to eat in his Copenhagen restaurant. Noma
  demonstrates what is necessary to gain such a reputation\, and the costs 
 of keeping it. \n\nDenmark/UK\, 2014\, 80 minutes\n\nDirector Pierre Desch
 amps\n\nDistributor Video Services Corp\n\n\n\nUnbroken Ground\n\nRevoluti
 ons start from the bottom. The makers of Patagonia\, follow four groups th
 at are pioneers in the fields of regenerative agriculture\, regenerative g
 razing\, diversified crop development and restorative fishing. \n\nUSA\, 2
 016\, 26 minutes\n\nDirector Chris Malloy\n\n
ATTACH;FMTTYPE=image/jpeg:https://devourfest.com/wp-content/uploads/2016/0
 9/Noma-My-Perfect-Storm.jpg
LOCATION:Al Whittle Theatre\, 450 Main St\, Wolfville\, NS\, B4P 1E2\, Cana
 da
GEO:45.0915;-64.362765
X-APPLE-STRUCTURED-LOCATION;VALUE=URI;X-ADDRESS=450 Main St\, Wolfville\, N
 S\, B4P 1E2\, Canada;X-APPLE-RADIUS=100;X-TITLE=Al Whittle Theatre:geo:45.
 0915,-64.362765
END:VEVENT
BEGIN:VTIMEZONE
TZID:America/Halifax
X-LIC-LOCATION:America/Halifax
BEGIN:STANDARD
DTSTART:20161106T010000
TZOFFSETFROM:-0300
TZOFFSETTO:-0400
TZNAME:AST
END:STANDARD
END:VTIMEZONE
END:VCALENDAR