BEGIN:VCALENDAR
VERSION:2.0
PRODID:-//wp-events-plugin.com//7.2.3.1//EN
TZID:America/Halifax
X-WR-TIMEZONE:America/Halifax
BEGIN:VEVENT
UID:124@devourfest.com
DTSTART;TZID=America/Halifax:20141116T183000
DTEND;TZID=America/Halifax:20141116T210000
DTSTAMP:20140922T114355Z
URL:https://devourfest.com/program/closing-gala-screening-zone-pro-site-th
 e-moveable-feast/
SUMMARY:Closing Gala Screening: Zone Pro Site: The Moveable Feast
DESCRIPTION:Zone Pro Site: A Moveable Feast\nMaster Fly Spirit’s dying wi
 sh was to pass on his famous recipe book and catering business to his only
  child\, Wan. Wan\, on the other hand\, has always dreamed of being a mode
 l. A pop comedy made in foodie heaven\, Zone Pro Site: A Moveable Feast fo
 llows Wan as she is forced to realize her destiny may be in the kitchen af
 ter all.\n\nTaiwan\, 2014\, 145 minutes\nDirector Chen Yu-Hsun\nDistributo
 r Ablaze Image\n\nhttp://www.youtube.com/watch?v=cLB4tnnf6oY
ATTACH;FMTTYPE=image/jpeg:https://devourfest.com/wp-content/uploads/2014/0
 9/Zone-Pro-Site.jpg
LOCATION:Al Whittle Theatre\, 450 Main St\, Wolfville\, NS\, B4P 1E2\, Cana
 da
GEO:45.0915;-64.362765
X-APPLE-STRUCTURED-LOCATION;VALUE=URI;X-ADDRESS=450 Main St\, Wolfville\, N
 S\, B4P 1E2\, Canada;X-APPLE-RADIUS=100;X-TITLE=Al Whittle Theatre:geo:45.
 0915,-64.362765
END:VEVENT
BEGIN:VTIMEZONE
TZID:America/Halifax
X-LIC-LOCATION:America/Halifax
BEGIN:STANDARD
DTSTART:20141102T010000
TZOFFSETFROM:-0300
TZOFFSETTO:-0400
TZNAME:AST
END:STANDARD
END:VTIMEZONE
END:VCALENDAR