BEGIN:VCALENDAR
VERSION:2.0
PRODID:-//wp-events-plugin.com//7.2.3.1//EN
TZID:America/Halifax
X-WR-TIMEZONE:America/Halifax
BEGIN:VEVENT
UID:771@devourfest.com
DTSTART;TZID=America/Halifax:20211024T170000
DTEND;TZID=America/Halifax:20211024T190000
DTSTAMP:20211018T014717Z
URL:https://devourfest.com/program/come-back-anytime-w-tanagokoro-a-culina
 ry-portrait-in-person/
SUMMARY:Come Back Anytime w/Tanagokoro: A Culinary Portrait - IN PERSON
DESCRIPTION:Come Back Anytime\nSelf-taught ramen master Masamoto Ueda and h
 is wife Kazuko have run their Tokyo ramen shop\, Bizentei\, for more than 
 40 years\, serving scores of devoted customers. Acknowledging the master m
 ust retire someday\, everyone resolves to make the best of what time remai
 ns—to truly appreciate this special place\, community of friends\, and u
 niquely delicious food before it is gone forever.\nJapan\, 2021\, 81 minut
 es\nDirector John Daschbach\nDistributor JD Media Co Ltd\n\nTanagokoro: A 
 Culinary Portrait\n\nWhen Japanese chef Yoshinori Ishii is dismayed by the
  quality of fish in London\, he takes it upon himself to investigate why. 
 Through skill\, ethics\, and passion\, he sparks a fish revolution in the 
 United Kingdom.\nCountry\, 2021\, 32 minutes\nDirectors Victoria Fistes\, 
 Masashi Nozaki\n\nSponsored by Atlantic News\n\nIn keeping with Nova Scoti
 a provincial health regulations and a desire to keep all our guests safe a
 nd healthy\, Devour! will require proof of full Covid-19 vaccine immunizat
 ion along with a valid photo ID upon entry to all events with no exception
 s. For all Devour! Covid Protocols\, please visit our website.
ATTACH;FMTTYPE=image/jpeg:https://devourfest.com/wp-content/uploads/2021/0
 9/Come-Back-Anytime-scaled.jpg
LOCATION:Al Whittle Theatre\, 450 Main St\, Wolfville\, NS\, B4P 1E2\, Cana
 da
GEO:45.0915;-64.362765
X-APPLE-STRUCTURED-LOCATION;VALUE=URI;X-ADDRESS=450 Main St\, Wolfville\, N
 S\, B4P 1E2\, Canada;X-APPLE-RADIUS=100;X-TITLE=Al Whittle Theatre:geo:45.
 0915,-64.362765
END:VEVENT
BEGIN:VTIMEZONE
TZID:America/Halifax
X-LIC-LOCATION:America/Halifax
BEGIN:DAYLIGHT
DTSTART:20210314T030000
TZOFFSETFROM:-0400
TZOFFSETTO:-0300
TZNAME:ADT
END:DAYLIGHT
END:VTIMEZONE
END:VCALENDAR