BEGIN:VCALENDAR
VERSION:2.0
PRODID:-//wp-events-plugin.com//7.2.3.1//EN
TZID:America/Halifax
X-WR-TIMEZONE:America/Halifax
BEGIN:VEVENT
UID:772@devourfest.com
DTSTART;TZID=America/Halifax:20211024T170000
DTEND;TZID=America/Halifax:20211024T190000
DTSTAMP:20210929T194036Z
URL:https://devourfest.com/program/come-back-anytime-w-tanagokoro-a-culina
 ry-portrait-online/
SUMMARY:Come Back Anytime w/Tanagokoro: A Culinary Portrait - ONLINE
DESCRIPTION:Come Back Anytime\nSelf-taught ramen master Masamoto Ueda and h
 is wife Kazuko have run their Tokyo ramen shop\, Bizentei\, for more than 
 40 years\, serving scores of devoted customers. Acknowledging the master m
 ust retire someday\, everyone resolves to make the best of what time remai
 ns—to truly appreciate this special place\, community of friends\, and u
 niquely delicious food before it is gone forever.\nJapan\, 2021\, 81 minut
 es\nDirector John Daschbach\nDistributor JD Media Co Ltd\nAvailable online
  for Canadian viewers.\n\nTanagokoro: A Culinary Portrait\n\nWhen Japanese
  chef Yoshinori Ishii is dismayed by the quality of fish in London\, he ta
 kes it upon himself to investigate why. Through skill\, ethics\, and passi
 on\, he sparks a fish revolution in the United Kingdom.\nCountry\, 2021\, 
 32 minutes\nDirectors Victoria Fistes\, Masashi Nozaki\n\nSponsored by Atl
 antic News
ATTACH;FMTTYPE=image/jpeg:https://devourfest.com/wp-content/uploads/2021/0
 9/Come-Back-Anytime-scaled.jpg
LOCATION:Online\, Online\,  \, Online\, Online\, Online\, Canada
GEO:43.808785;-79.334046
X-APPLE-STRUCTURED-LOCATION;VALUE=URI;X-ADDRESS=Online\,  \, Online\, Onlin
 e\, Online\, Canada;X-APPLE-RADIUS=100;X-TITLE=Online:geo:43.808785,-79.33
 4046
END:VEVENT
BEGIN:VTIMEZONE
TZID:America/Halifax
X-LIC-LOCATION:America/Halifax
BEGIN:DAYLIGHT
DTSTART:20210314T030000
TZOFFSETFROM:-0400
TZOFFSETTO:-0300
TZNAME:ADT
END:DAYLIGHT
END:VTIMEZONE
END:VCALENDAR