BEGIN:VCALENDAR
VERSION:2.0
PRODID:-//wp-events-plugin.com//7.2.3.1//EN
TZID:America/Halifax
X-WR-TIMEZONE:America/Halifax
BEGIN:VEVENT
UID:800@devourfest.com
DTSTART;TZID=America/Halifax:20221024T120000
DTEND;TZID=America/Halifax:20221024T130000
DTSTAMP:20220923T193757Z
URL:https://devourfest.com/program/culinary-master-class-for-youth-w-peter
 -dewar-online/
SUMMARY:Culinary Master Class for Youth w/Peter Dewar - ONLINE
DESCRIPTION:Under the guidance of Chef Peter Dewar and students from the No
 va Scotia Community College’s culinary program\, students will learn how
  to get creative with plants in this hands-on workshop series.\n\nRecipe: 
 Vegetable dumplings with a Sesame Slaw\n\nSponsored by the Nova Scotia Com
 munity College\n\nPeter Dewar\n\nChef Peter Dewar is a Faculty member of t
 he Culinary Management program at the Nova Scotia Community College\, King
 stec Campus. Students in this program learn the fundamentals of cooking an
 d presentation. This dish reflects their training over the past 2 years. 
  We strive to ensure our students are offered valuable real-life experienc
 es\, whether at events such as Devour or fundraising initiatives that supp
 ort Nova Scotia communities. @chefpeterdewar
ATTACH;FMTTYPE=image/jpeg:https://devourfest.com/wp-content/uploads/2022/0
 9/Devour-2022-Main-Image.jpeg
CATEGORIES:WORKSHOP
LOCATION:Online\, Online\,  \, Online\, Online\, Online\, Canada
GEO:43.808785;-79.334046
X-APPLE-STRUCTURED-LOCATION;VALUE=URI;X-ADDRESS=Online\,  \, Online\, Onlin
 e\, Online\, Canada;X-APPLE-RADIUS=100;X-TITLE=Online:geo:43.808785,-79.33
 4046
END:VEVENT
BEGIN:VTIMEZONE
TZID:America/Halifax
X-LIC-LOCATION:America/Halifax
BEGIN:DAYLIGHT
DTSTART:20220313T030000
TZOFFSETFROM:-0400
TZOFFSETTO:-0300
TZNAME:ADT
END:DAYLIGHT
END:VTIMEZONE
END:VCALENDAR