BEGIN:VCALENDAR
VERSION:2.0
PRODID:-//wp-events-plugin.com//7.2.3.1//EN
TZID:America/Halifax
X-WR-TIMEZONE:America/Halifax
BEGIN:VEVENT
UID:965@devourfest.com
DTSTART;TZID=America/Halifax:20241026T130000
DTEND;TZID=America/Halifax:20241026T143000
DTSTAMP:20241022T132226Z
URL:https://devourfest.com/program/culinary-workshop-bourbon-bites-w-chef-
 winnie-chen-ray-daniel/
SUMMARY:Culinary Workshop: Bourbon & Bites w/Chef Winnie Chen & Ray Daniel
DESCRIPTION:Fu’s Repair Shop\, voted Best New Restaurant in Edmonton in 2
 023\, is a must-visit spot. Chef Owner Winnie Chen offers a unique dining 
 experience with a fantastic cocktail program and creative dim sum. Join us
  as she teams up with American Whiskey Ambassador for Suntory Global Spiri
 ts\, Ray Daniel\, to present innovative dishes paired with bourbons from t
 heir portfolio.\n\nTicket Price: $50.00\, includes food and beverage sampl
 es\nSponsored by Suntory Global Spirits\, J.R. Mahoney Ltd.\, and Chef Wor
 ks\nMust be 19+ to attend in-person\nMenu &amp\; pairings coming soon!\n\n
 Ray Daniel\nRay Daniel brings with him over two decades of experience in t
 he world of beverage alcohol\, from Europe to North America\, where he is 
 currently the American Whiskey Ambassador to Canada for Suntory Global Spi
 rits\, James B. Beam Distilling Co.\, and Maker’s Mark. Hailing from Ire
 land\, Daniel has been enamoured with the category of Whiskey his whole li
 fe\, which has led to a career specializing in Irish\, Scotch\, Canadian\,
  and American Whisk(e)y. With a long background in competitive bartending\
 , Daniel’s escapades have landed him in competitions and as a guest spea
 ker and lecturer throughout Canada\, Mexico\, and the USA\, and led to app
 earances in publications such as Whisky Magazine and The New York Times. J
 am-packed with passion\, humour\, and a deep-rooted respect for the histor
 y of whiskey\, Daniel’s presentations have become a highly sought-after 
 affair. @raydanielwhiskey \n\nWinnie Chen \n\nWinnie Chen is an accomplis
 hed executive chef and partner of two renowned Edmonton restaurants: Fu’
 s Repair Shop and Boa &amp\; Hare. Known for her culinary creativity\, Che
 f Chen’s cooking style blends tradition with innovation\, earning both e
 stablishments numerous accolades. Her passion for art and fashion influenc
 es her approach to food\, creating unique and memorable dining experiences
 . Beyond the kitchen\, Chen cherishes the sense of community that food fos
 ters\, bringing people together through her culinary creations. With a com
 mitment to excellence\, she continues to push boundaries and delight diner
 s with her freeform cooking style\, reflecting her creativity and dedicati
 on to the culinary craft. @albertaboeuf_ f @fus_repair_shop @boaandhare \
 n
ATTACH;FMTTYPE=image/jpeg:https://devourfest.com/wp-content/uploads/2024/0
 9/Ray-Daniel.jpeg
CATEGORIES:WORKSHOP
LOCATION:Devour! Studios B\, 360 Main Street\, Wolfville\, NS\, B4P1C4\, Ca
 nada
GEO:45.091942;-64.359045
X-APPLE-STRUCTURED-LOCATION;VALUE=URI;X-ADDRESS=360 Main Street\, Wolfville
 \, NS\, B4P1C4\, Canada;X-APPLE-RADIUS=100;X-TITLE=Devour! Studios B:geo:4
 5.091942,-64.359045
END:VEVENT
BEGIN:VTIMEZONE
TZID:America/Halifax
X-LIC-LOCATION:America/Halifax
BEGIN:DAYLIGHT
DTSTART:20240310T030000
TZOFFSETFROM:-0400
TZOFFSETTO:-0300
TZNAME:ADT
END:DAYLIGHT
END:VTIMEZONE
END:VCALENDAR