BEGIN:VCALENDAR
VERSION:2.0
PRODID:-//wp-events-plugin.com//7.2.3.1//EN
TZID:America/Halifax
X-WR-TIMEZONE:America/Halifax
BEGIN:VEVENT
UID:884@devourfest.com
DTSTART;TZID=America/Halifax:20231026T123000
DTEND;TZID=America/Halifax:20231026T133000
DTSTAMP:20231015T155210Z
URL:https://devourfest.com/program/culinary-workshop-cheese-charcuterie-of
 -quebec/
SUMMARY:Culinary Workshop: Cheeses of Québec
DESCRIPTION:Explore the dynamism and diversity of the cheeses of La Belle P
 rovince. Whether a semi-soft washed rind or a full-blown bleu\, Québec pr
 oducers arguably make some of the best cheese in the world\, hosted by a w
 ell-known cheese affineur\, join us for a tasting of Québec’s finest. 
 \n\nTicket Price: $45.00\, includes food samples\nSponsored by Bureau du Q
 uébec dans les Provinces atlantiques\, J.R. Mahoney Ltd.\, Chef Works\nOf
 fered in French w/English translation\n\nFeatured Cheeses from:\nFromages 
 CDA\nAgrilait\nFromages Latino
ATTACH;FMTTYPE=image/jpeg:https://devourfest.com/wp-content/uploads/2023/0
 8/Cheese-_-Charcuterie-of-Quebec.jpg
CATEGORIES:WORKSHOP
LOCATION:Devour! Studios\, 360 Main Street\, Wolfville\, NS\, B4P1C4\, Cana
 da
GEO:45.091942;-64.359045
X-APPLE-STRUCTURED-LOCATION;VALUE=URI;X-ADDRESS=360 Main Street\, Wolfville
 \, NS\, B4P1C4\, Canada;X-APPLE-RADIUS=100;X-TITLE=Devour! Studios:geo:45.
 091942,-64.359045
END:VEVENT
BEGIN:VTIMEZONE
TZID:America/Halifax
X-LIC-LOCATION:America/Halifax
BEGIN:DAYLIGHT
DTSTART:20230312T030000
TZOFFSETFROM:-0400
TZOFFSETTO:-0300
TZNAME:ADT
END:DAYLIGHT
END:VTIMEZONE
END:VCALENDAR