BEGIN:VCALENDAR
VERSION:2.0
PRODID:-//wp-events-plugin.com//7.2.3.1//EN
TZID:America/Halifax
X-WR-TIMEZONE:America/Halifax
BEGIN:VEVENT
UID:955@devourfest.com
DTSTART;TZID=America/Halifax:20241025T130000
DTEND;TZID=America/Halifax:20241025T140000
DTSTAMP:20241022T131933Z
URL:https://devourfest.com/program/culinary-workshop-demystifying-olive-oi
 l-w-fil-bucchino/
SUMMARY:Culinary Workshop: Demystifying Olive Oil w/Fil Bucchino
DESCRIPTION:Punk rocker turned olive oil maestro Fil Bucchino has made a li
 fe of exploring the nuances and complexities of olive oil. Join us for an 
 immersive Olive Oil Masterclass combining education with hands-on experien
 ce. We’ll uncover common misconceptions\, myths\, and truths about olive
  oil through interactive discussions\, slides\, and a curated tasting sess
 ion. We’ll also explore sustainability\, highlighting the innovative Aba
 ndoned Grove project.\n\nTicket Price: $50.00\, includes food samples\nSpo
 nsored by J.R. Mahoney Ltd.\, Chef Works\nFeatured oils &amp\; food pairin
 gs coming soon!\n\nFil Bucchino \nFil Bucchino is an international olive 
 oil expert\, educator\, speaker\, and passionate advocate for extra virgin
  olive oil’s contribution to culinary excellence\, sustainability\, and 
 health. He founded Abandoned Grove to combat the negative effects of olive
  oil commoditization on quality\, community\, and the environment. This in
 itiative has rejuvenated over 5\,000 trees in Tuscany\, using premium oliv
 e oil as a force for positive change. Bucchino co-produced and hosted the 
 acclaimed documentary Obsessed with Olive Oil\, and collaborates with inst
 itutions like Yale University\, PBS\, and Chianti Classico. He is the only
  Canadian in the Italian Directory of Virgin and Extra Virgin Olive Oil Ex
 perts\, a sought-after olive oil judge across four continents\, and the re
 cipient of the “Olive Oil Personality of the Year” and Pentola d’Oro
 ’ awards. @filbucchino @abandonedgrove
ATTACH;FMTTYPE=image/jpeg:https://devourfest.com/wp-content/uploads/2024/0
 9/Fil-Bucchino.jpeg
CATEGORIES:WORKSHOP
LOCATION:Devour! Studios B\, 360 Main Street\, Wolfville\, NS\, B4P1C4\, Ca
 nada
GEO:45.091942;-64.359045
X-APPLE-STRUCTURED-LOCATION;VALUE=URI;X-ADDRESS=360 Main Street\, Wolfville
 \, NS\, B4P1C4\, Canada;X-APPLE-RADIUS=100;X-TITLE=Devour! Studios B:geo:4
 5.091942,-64.359045
END:VEVENT
BEGIN:VTIMEZONE
TZID:America/Halifax
X-LIC-LOCATION:America/Halifax
BEGIN:DAYLIGHT
DTSTART:20240310T030000
TZOFFSETFROM:-0400
TZOFFSETTO:-0300
TZNAME:ADT
END:DAYLIGHT
END:VTIMEZONE
END:VCALENDAR