BEGIN:VCALENDAR
VERSION:2.0
PRODID:-//wp-events-plugin.com//7.2.3.1//EN
TZID:America/Halifax
X-WR-TIMEZONE:America/Halifax
BEGIN:VEVENT
UID:943@devourfest.com
DTSTART;TZID=America/Halifax:20241024T140000
DTEND;TZID=America/Halifax:20241024T150000
DTSTAMP:20241022T130254Z
URL:https://devourfest.com/program/culinary-workshop-kick-ass-cookies-with
 -angel-ramirez-betancourt/
SUMMARY:Culinary Workshop: Kick-Ass Cookies with Angel Ramirez Betancourt
DESCRIPTION:​​Internationally renowned pastry chef Angel Ramirez Betanc
 ourt\, originally from Venezuela and trained at Cordon Bleu in Ottawa\, br
 ings his expertise in chocolate and dessert creation to us from San Jose d
 el Cabo\, Mexico. With experience working globally\, he has crafted extrao
 rdinary desserts and cookies. Join us for a workshop where he will demonst
 rate the preparation of two amazing cookies from his new cookbook\, focusi
 ng on beautiful desserts and platings\, and share recipes for you to recre
 ate at home.\n\nTicket Price: $50.00\, includes food samples\nSponsored by
  J.R. Mahoney Ltd. and Chef Works\nCookies coming soon! \n\nAngel Ramirez
  Betancourt\nAfter training at one of the world’s most renowned culinary
  institutes\, Angel R. Betancourt honed his craft alongside mentors such a
 s Chocolatier Laurent Pagès\, Chef Nobu Matsuhisa\, and Chef Jean-Georges
  Vongerichten. Having then worked as the Corporate Pastry Chef for Blue Di
 amond Resorts\, and Executive Pastry Chef for Four Seasons Bahamas and One
 &amp\;Only Ocean Club\, The Bahamas\, Chef Betancourt is now the Executive
  Pastry Chef of the One&amp\;Only Palmilla resort in Los Cabos. His accomp
 lishments include attending France’s prestigious L’École Valrhona\, r
 epresenting the Bahamian Culinary Team and winning two silver medals at th
 e highly competitive Taste of the Caribbean\, and being named Caribbean Pa
 stry Chef of the Year. He has been featured in numerous publications inclu
 ding Le Cordon Bleu\, Dessert Professional\, and Inflight magazines. @ange
 lrbetancourt17 @materiapastryboutique\n\n
ATTACH;FMTTYPE=image/jpeg:https://devourfest.com/wp-content/uploads/2024/0
 9/Angel-Ramirez-Betancourt.jpeg
CATEGORIES:WORKSHOP
LOCATION:Devour! Studios B\, 360 Main Street\, Wolfville\, NS\, B4P1C4\, Ca
 nada
GEO:45.091942;-64.359045
X-APPLE-STRUCTURED-LOCATION;VALUE=URI;X-ADDRESS=360 Main Street\, Wolfville
 \, NS\, B4P1C4\, Canada;X-APPLE-RADIUS=100;X-TITLE=Devour! Studios B:geo:4
 5.091942,-64.359045
END:VEVENT
BEGIN:VTIMEZONE
TZID:America/Halifax
X-LIC-LOCATION:America/Halifax
BEGIN:DAYLIGHT
DTSTART:20240310T030000
TZOFFSETFROM:-0400
TZOFFSETTO:-0300
TZNAME:ADT
END:DAYLIGHT
END:VTIMEZONE
END:VCALENDAR