BEGIN:VCALENDAR
VERSION:2.0
PRODID:-//wp-events-plugin.com//7.2.3.1//EN
TZID:America/Halifax
X-WR-TIMEZONE:America/Halifax
BEGIN:VEVENT
UID:975@devourfest.com
DTSTART;TZID=America/Halifax:20241027T140000
DTEND;TZID=America/Halifax:20241027T150000
DTSTAMP:20241021T211019Z
URL:https://devourfest.com/program/culinary-workshop-secrets-to-living-the
 -mediterranean-lifestyle-w-dario-tomaselli-anita-heidema/
SUMMARY:Culinary Workshop: Secrets to Living the Mediterranean Lifestyle w/
 Dario Tomaselli & Anita Heidema
DESCRIPTION:Imagine savouring every moment\, every bite\, and every connect
 ion. In the Mediterranean\, life is about waking up with purpose\, embraci
 ng the day with vigour\, and fostering meaningful relationships. This simp
 le yet profound way of living centers on joy and contentment. Dario Tomase
 lli and Anita Heidema embraced this lifestyle when given a second chance\,
  and it transformed their lives. As an Italian chef and a rich life strate
 gist couple\, they have developed eight guiding principles to help others 
 embrace this enriching way of living. Now\, they invite you to do the same
 . Whether you’re an empty nester seeking a fresh adventure or simply yea
 rning for something more\, this journey is for you.\n\nTicket Price: $50.0
 0\, includes food samples\nSponsored by J.R. Mahoney Ltd.\, Chef Works\n\n
 Anita Heidema \n\nAfter a 27-year corporate career\, Anita Heidema discov
 ered a deeper purpose and transformed into the CEO of her own life. Armed 
 with six years of training in master coaching\, NLP\, hypnotherapy\, and t
 ravel\, she unearthed the profound benefits beyond traditional business. W
 ith a focus on life balance\, Heidema leverages her diverse expertise to e
 nrich lives holistically\, fostering success and vitality. A bestselling a
 uthor of Vitality Knocks\, podcast host of Ah-Ha Moments for Success\, spe
 aker\, and co-brand owner of O’Live Your Life.org\, Anita champions the 
 Mediterranea Lifestyle Movement. Her media presence spans numerous TV appe
 arances and publications\, while her O’Live Your Life Lifestyle TV\, blo
 gs\, International Dinner Club\, and innovative culinary and mindset tools
  resonate with food enthusiasts seeking a zestful life. @anitaheidema_rich
 lifebiz @oliveyourlife.org \n\nDario Tomaselli \n\nBorn into a family imm
 ersed in the culinary world in Italy\, Dario Tomaselli’s upbringing kind
 led his love for food and hospitality. After completing hotel and chef sch
 ool in Stresa\, Italy\, he embarked on a remarkable global career\, honing
  his culinary craft in prestigious restaurants and hotels worldwide. From 
 serving as an Executive Chef at the Melia Grand Hotel in Cancun to spearhe
 ading Oro Restaurant for a decade\, Tomaselli’s expertise has left a las
 ting mark. His role as coordinator of the Italian Cuisine Post Diploma Int
 ernational program at George Brown College showcased his dedication to cul
 inary education. Today\, as a co-founder of O’Live Your Life.org\, Tomas
 elli champions the Mediterranean Lifestyle Movement\, and his culinary pro
 wess has been recognized in various publications and culinary events\, whe
 re he continues to inspire food enthusiasts around the world. @chefdarioto
 maselli @oliveyourlife.org 
ATTACH;FMTTYPE=image/jpeg:https://devourfest.com/wp-content/uploads/2024/0
 9/Secrets-to-Living-the-Mediterranean-Lifestyle-w_Dario-Tomaselli-Anita-He
 idema.jpeg
CATEGORIES:EVENT,FILM,PANEL,WORKSHOP
LOCATION:Devour! Studios B\, 360 Main Street\, Wolfville\, NS\, B4P1C4\, Ca
 nada
GEO:45.091942;-64.359045
X-APPLE-STRUCTURED-LOCATION;VALUE=URI;X-ADDRESS=360 Main Street\, Wolfville
 \, NS\, B4P1C4\, Canada;X-APPLE-RADIUS=100;X-TITLE=Devour! Studios B:geo:4
 5.091942,-64.359045
END:VEVENT
BEGIN:VTIMEZONE
TZID:America/Halifax
X-LIC-LOCATION:America/Halifax
BEGIN:DAYLIGHT
DTSTART:20240310T030000
TZOFFSETFROM:-0400
TZOFFSETTO:-0300
TZNAME:ADT
END:DAYLIGHT
END:VTIMEZONE
END:VCALENDAR