BEGIN:VCALENDAR
VERSION:2.0
PRODID:-//wp-events-plugin.com//7.2.3.1//EN
TZID:America/Halifax
X-WR-TIMEZONE:America/Halifax
BEGIN:VEVENT
UID:1021@devourfest.com
DTSTART;TZID=America/Halifax:20251025T133000
DTEND;TZID=America/Halifax:20251025T143000
DTSTAMP:20251017T220513Z
URL:https://devourfest.com/program/culinary-workshop-w-ariel-schor/
SUMMARY:Culinary Workshop w/Ariel Schor
DESCRIPTION:Join chef Ari Schor for a captivating culinary workshop based o
 n Restaurant Beba\, named one of the World’s 50 Best Discovery restauran
 ts. Get inspired by the stories and techniques behind his heritage-driven 
 cooking\, as Ari shares his passion for sourcing unique ingredients and th
 e importance of food that honours tradition and history.\n\nTicket Price: 
 $45.00\, includes food samples\nSponsored by J.R. Mahoney and Chef Works\n
 \nDishes: \nPan con tomate\, bone marrow and anchovy\nClams and Sunchokes 
 à la barigoule \n\nAriel Schor\nAri Schor is the chef and co-owner of Res
 taurant Beba in Verdun\, where he serves dishes rooted in historic\, Old W
 orld cuisine. Originally from Argentina and raised in Winnipeg\, Ari spent
  six years as chef de cuisine at Montréal’s celebrated Liverpool House\
 , where he developed his unique style and deepened his understanding of ho
 spitality. In 2019\, he and his brother Pablo opened Beba\, a neighbourhoo
 d gem that reflects their heritage and dedication to sourcing singular ing
 redients. At Beba\, Ari emphasizes the importance of food with history—d
 ishes that carry the weight of tradition\, tell the stories of past genera
 tions\, and celebrate the techniques and flavours passed down through time
 . @donlardo @restaurantbeba
ATTACH;FMTTYPE=image/jpeg:https://devourfest.com/wp-content/uploads/2025/0
 8/Ariel-Schor.jpeg
CATEGORIES:WORKSHOP
LOCATION:Devour! Studios\, 360 Main Street\, Wolfville\, Nova Scotia\, B4P1
 C4\, Canada
GEO:45.091942;-64.359045
X-APPLE-STRUCTURED-LOCATION;VALUE=URI;X-ADDRESS=360 Main Street\, Wolfville
 \, Nova Scotia\, B4P1C4\, Canada;X-APPLE-RADIUS=100;X-TITLE=Devour! Studio
 s:geo:45.091942,-64.359045
END:VEVENT
BEGIN:VTIMEZONE
TZID:America/Halifax
X-LIC-LOCATION:America/Halifax
BEGIN:DAYLIGHT
DTSTART:20250309T030000
TZOFFSETFROM:-0400
TZOFFSETTO:-0300
TZNAME:ADT
END:DAYLIGHT
END:VTIMEZONE
END:VCALENDAR