BEGIN:VCALENDAR
VERSION:2.0
PRODID:-//wp-events-plugin.com//7.2.3.1//EN
TZID:America/Halifax
X-WR-TIMEZONE:America/Halifax
BEGIN:VEVENT
UID:482@devourfest.com
DTSTART;TZID=America/Halifax:20181025T140000
DTEND;TZID=America/Halifax:20181026T153000
DTSTAMP:20180917T121603Z
URL:https://devourfest.com/program/culinary-workshop-w-chef-michael-blacki
 e/
SUMMARY:Culinary Workshop w/Chef Michael Blackie
DESCRIPTION:Approachable Cuisine to Take Home: Leading Ottawa Chef Michael
  Blackie (NeXt Food) demonstrates how easy it is to make delicious and inn
 ovative dishes at home\, including his signature General Blackie’s Chick
 en.\n$30.00 per guest\nSponsored by Big Erics\n\nMichael Blackie\n\nBorn i
 n Leicestershire\, England\, and raised in Montreal\, Michael has been coo
 king for over 30 years on three continents. He’s worked at some of the w
 orld’s finest hotels including the Windsor Arms Hotel (Toronto) and the 
 Oberoi (Bali). He held executive sous chef and acting chef positions at th
 e prestigious and world-renowned Mandarin Oriental in Hong Kong\, China. I
 n 2003\, Michael returned to Canada and was the opening executive chef at 
 Brookstreet Hotel (Ottawa)\, which after just three months under his leade
 rship was awarded the prestigious four-diamond rating from CAA for both th
 e rooms and main restaurant. He joined the National Arts Centre as the exe
 cutive chef and director of food and beverage in 2009. In 2012\, he delive
 red the highest revenue for the NAC food and beverage division in its 30 y
 ears of operation. In 2013\, Michael opened his first signature food and b
 everage operation in the west end of Ottawa called NeXT\, which was quickl
 y recognized for its innovative cuisine along with its sharing dining menu
  concept. @michaelblackie 
ATTACH;FMTTYPE=image/jpeg:https://devourfest.com/wp-content/uploads/2018/0
 8/Michael-Blackie-cropped.jpeg
LOCATION:Wolfville Farmer's Market\, 4 Elm Ave\, Wolfville\, NS\, B4P 2S3\,
  Canada
GEO:45.0920578;-64.36384250000003
X-APPLE-STRUCTURED-LOCATION;VALUE=URI;X-ADDRESS=4 Elm Ave\, Wolfville\, NS\
 , B4P 2S3\, Canada;X-APPLE-RADIUS=100;X-TITLE=Wolfville Farmer's Market:ge
 o:45.0920578,-64.36384250000003
END:VEVENT
BEGIN:VTIMEZONE
TZID:America/Halifax
X-LIC-LOCATION:America/Halifax
BEGIN:DAYLIGHT
DTSTART:20180311T030000
TZOFFSETFROM:-0400
TZOFFSETTO:-0300
TZNAME:ADT
END:DAYLIGHT
END:VTIMEZONE
END:VCALENDAR