BEGIN:VCALENDAR
VERSION:2.0
PRODID:-//wp-events-plugin.com//7.2.3.1//EN
TZID:America/Halifax
X-WR-TIMEZONE:America/Halifax
BEGIN:VEVENT
UID:817@devourfest.com
DTSTART;TZID=America/Halifax:20221027T110000
DTEND;TZID=America/Halifax:20221027T120000
DTSTAMP:20220923T194500Z
URL:https://devourfest.com/program/culinary-workshop-w-jason-bangerter-in-
 person/
SUMMARY:Culinary Workshop w/Jason Bangerter - IN PERSON
DESCRIPTION:As one of Canada’s leading chefs\, Chef Jason Bangerter is an
  influential leader in the culinary scene who has been at the helm of Lang
 don Hall’s award-winning dining experience since 2013. Chef Jason has a 
 “sense of place” philosophy\, inspired by the garden\, bees and forest
  outside his kitchen. His flair for colour and exemplary flavours will be 
 brought to life at Devour in this plant-forward workshop. Enjoy Chef Jason
 ’s Citrus Plant-Cured Tuna as well as Beets and Berries with Nova Scotia
 ’s Hana Tsunomata.\n\nRecipes:\nCitrus and plant-cured tuna\nBeets and b
 erries with Nova Scotia's Hana Tsunomata seaweed\n\nTicket Price: $30.00 i
 n-person (includes food samples) \nSponsored by Acadian Seaplants\, Russel
 l Hendrix\, Windsor Home Furniture &amp\; Bosch Canada\n\nJason Bangerter\
 nNotably an influential leader in the culinary industry\, Chef Jason Bange
 rter’s career spans nationally and internationally\, working alongside s
 ome of the world’s greatest chefs. Chef Jason’s unbridled passion for 
 excellence is fueled by his dedication to supporting and developing source
 s for sustainable\, responsibly produced ingredients. Langdon Hall Country
  House Hotel and Spa welcomed Executive Chef Jason Bangerter in 2013. Chef
  Jason’s philosophies have grown since by creating a “taste of place
 ”\, with a focus on the freshest and most flavourful ingredients on the 
 property and surrounding farms. @chefbangerter
ATTACH;FMTTYPE=image/jpeg:https://devourfest.com/wp-content/uploads/2022/0
 9/Jason-Bangerter-1.jpg
CATEGORIES:WORKSHOP
LOCATION:Devour! Studios\, 360 Main Street\, Wolfville\, NS\, B4P1C4\, Cana
 da
GEO:45.091942;-64.359045
X-APPLE-STRUCTURED-LOCATION;VALUE=URI;X-ADDRESS=360 Main Street\, Wolfville
 \, NS\, B4P1C4\, Canada;X-APPLE-RADIUS=100;X-TITLE=Devour! Studios:geo:45.
 091942,-64.359045
END:VEVENT
BEGIN:VTIMEZONE
TZID:America/Halifax
X-LIC-LOCATION:America/Halifax
BEGIN:DAYLIGHT
DTSTART:20220313T030000
TZOFFSETFROM:-0400
TZOFFSETTO:-0300
TZNAME:ADT
END:DAYLIGHT
END:VTIMEZONE
END:VCALENDAR