BEGIN:VCALENDAR
VERSION:2.0
PRODID:-//wp-events-plugin.com//7.2.3.1//EN
TZID:America/Halifax
X-WR-TIMEZONE:America/Halifax
BEGIN:VEVENT
UID:818@devourfest.com
DTSTART;TZID=America/Halifax:20221027T110000
DTEND;TZID=America/Halifax:20221027T120000
DTSTAMP:20220923T194511Z
URL:https://devourfest.com/program/culinary-workshop-w-jason-bangerter-onl
 ine/
SUMMARY:Culinary Workshop w/Jason Bangerter - ONLINE
DESCRIPTION:As one of Canada’s leading chefs\, Chef Jason Bangerter is an
  influential leader in the culinary scene who has been at the helm of Lang
 don Hall’s award-winning dining experience since 2013. Chef Jason has a 
 “sense of place” philosophy\, inspired by the garden\, bees and forest
  outside his kitchen. His flair for colour and exemplary flavours will be 
 brought to life at Devour in this plant-forward workshop. Enjoy Chef Jason
 ’s Citrus Plant-Cured Tuna as well as Beets and Berries with Nova Scotia
 ’s Hana Tsunomata.\n\nRecipes:\nCitrus and plant-cured tuna\nBeets and b
 erries with Nova Scotia's Hana Tsunomata seaweed\n\nTicket Price: $10.00 o
 nline\nSponsored by Acadian Seaplants\, Russell Hendrix\, Windsor Home Fur
 niture &amp\; Bosch Canada\n\nJason Bangerter\nNotably an influential lead
 er in the culinary industry\, Chef Jason Bangerter’s career spans nation
 ally and internationally\, working alongside some of the world’s greates
 t chefs. Chef Jason’s unbridled passion for excellence is fueled by his 
 dedication to supporting and developing sources for sustainable\, responsi
 bly produced ingredients. Langdon Hall Country House Hotel and Spa welcome
 d Executive Chef Jason Bangerter in 2013. Chef Jason’s philosophies have
  grown since by creating a “taste of place”\, with a focus on the fres
 hest and most flavourful ingredients on the property and surrounding farms
 . @chefbangerter
ATTACH;FMTTYPE=image/jpeg:https://devourfest.com/wp-content/uploads/2022/0
 9/Jason-Bangerter-1.jpg
CATEGORIES:WORKSHOP
LOCATION:Online\, Online\,  \, Online\, Online\, Online\, Canada
GEO:43.808785;-79.334046
X-APPLE-STRUCTURED-LOCATION;VALUE=URI;X-ADDRESS=Online\,  \, Online\, Onlin
 e\, Online\, Canada;X-APPLE-RADIUS=100;X-TITLE=Online:geo:43.808785,-79.33
 4046
END:VEVENT
BEGIN:VTIMEZONE
TZID:America/Halifax
X-LIC-LOCATION:America/Halifax
BEGIN:DAYLIGHT
DTSTART:20220313T030000
TZOFFSETFROM:-0400
TZOFFSETTO:-0300
TZNAME:ADT
END:DAYLIGHT
END:VTIMEZONE
END:VCALENDAR