BEGIN:VCALENDAR
VERSION:2.0
PRODID:-//wp-events-plugin.com//7.2.3.1//EN
TZID:America/Halifax
X-WR-TIMEZONE:America/Halifax
BEGIN:VEVENT
UID:823@devourfest.com
DTSTART;TZID=America/Halifax:20221028T100000
DTEND;TZID=America/Halifax:20221028T110000
DTSTAMP:20220923T194903Z
URL:https://devourfest.com/program/culinary-workshop-w-mary-sue-milliken-i
 n-person/
SUMMARY:Culinary Workshop w/Mary Sue Milliken - IN PERSON
DESCRIPTION:A Mexican Veggie Breakfast FEAST! Join Devour! alum chef Mary S
 ue Milliken of LA’s Border Grill and Socalo and one of our all-time favo
 urite Food Network stars from Two Hot Tamales! as she prepares signature d
 ishes from her wildly successful California restaurants. Think Mexico and 
 breakfast altogether!\n\nRecipes coming soon!\n\nTicket Price: $30.00 in p
 erson\, includes food samples\nSponsored by Russell Hendrix\, Windsor Home
  Furniture &amp\; Bosch Canada\n\nMary Sue Milliken\nMary Sue Milliken is 
 a James Beard and Julia Child Award-winning chef\, cookbook author\, activ
 ist\, and media personality. She is best known for her modern Mexican Bord
 er Grill restaurants in Los Angeles and Las Vegas\; the fast-casual eateri
 es BBQ Mexicana and Pacha Mamas in Las Vegas\; and Socalo\, a California c
 anteen and Mexican pub in Santa Monica—all created with her business par
 tner Susan Feniger. Mary Sue has co-authored five cookbooks\, co-starred i
 n Food Network’s Too Hot Tamales\, and successfully competed on Bravo’
 s Top Chef Masters. Milliken is passionate about food policy and works wit
 h nonprofits around the world to bring her expertise to help shape sustain
 able food systems. Mary Sue also serves on the Board of Trustees for the J
 ames Beard Foundation and is a founding member of Regarding Her. @marysuem
 illiken
ATTACH;FMTTYPE=image/jpeg:https://devourfest.com/wp-content/uploads/2022/0
 9/Mary-Sue-Milliken-1.jpg
CATEGORIES:WORKSHOP
LOCATION:Devour! Studios\, 360 Main Street\, Wolfville\, NS\, B4P1C4\, Cana
 da
GEO:45.091942;-64.359045
X-APPLE-STRUCTURED-LOCATION;VALUE=URI;X-ADDRESS=360 Main Street\, Wolfville
 \, NS\, B4P1C4\, Canada;X-APPLE-RADIUS=100;X-TITLE=Devour! Studios:geo:45.
 091942,-64.359045
END:VEVENT
BEGIN:VTIMEZONE
TZID:America/Halifax
X-LIC-LOCATION:America/Halifax
BEGIN:DAYLIGHT
DTSTART:20220313T030000
TZOFFSETFROM:-0400
TZOFFSETTO:-0300
TZNAME:ADT
END:DAYLIGHT
END:VTIMEZONE
END:VCALENDAR