BEGIN:VCALENDAR
VERSION:2.0
PRODID:-//wp-events-plugin.com//7.2.3.1//EN
TZID:America/Halifax
X-WR-TIMEZONE:America/Halifax
BEGIN:VEVENT
UID:827@devourfest.com
DTSTART;TZID=America/Halifax:20221028T100000
DTEND;TZID=America/Halifax:20221028T110000
DTSTAMP:20220923T194854Z
URL:https://devourfest.com/program/culinary-workshop-w-mary-sue-milliken-o
 nline/
SUMMARY:Culinary Workshop w/Mary Sue Milliken - ONLINE
DESCRIPTION:A Mexican Veggie Breakfast FEAST! Join Devour! alum chef Mary S
 ue Milliken of LA’s Border Grill and Socalo and one of our all-time favo
 urite Food Network stars from Two Hot Tamales! as she prepares signature d
 ishes from her wildly successful California restaurants. Think Mexico and 
 breakfast altogether!\n\nRecipes coming soon!\n\nTicket Price: $10.00 onli
 ne\nSponsored by Russell Hendrix\, Windsor Home Furniture &amp\; Bosch Can
 ada\n\nMary Sue Milliken\nMary Sue Milliken is a James Beard and Julia Chi
 ld Award-winning chef\, cookbook author\, activist\, and media personality
 . She is best known for her modern Mexican Border Grill restaurants in Los
  Angeles and Las Vegas\; the fast-casual eateries BBQ Mexicana and Pacha M
 amas in Las Vegas\; and Socalo\, a California canteen and Mexican pub in S
 anta Monica—all created with her business partner Susan Feniger. Mary Su
 e has co-authored five cookbooks\, co-starred in Food Network’s Too Hot 
 Tamales\, and successfully competed on Bravo’s Top Chef Masters. Millike
 n is passionate about food policy and works with nonprofits around the wor
 ld to bring her expertise to help shape sustainable food systems. Mary Sue
  also serves on the Board of Trustees for the James Beard Foundation and i
 s a founding member of Regarding Her. @marysuemilliken 
ATTACH;FMTTYPE=image/jpeg:https://devourfest.com/wp-content/uploads/2022/0
 9/Mary-Sue-Milliken-1.jpg
CATEGORIES:WORKSHOP
LOCATION:Online\, Online\,  \, Online\, Online\, Online\, Canada
GEO:43.808785;-79.334046
X-APPLE-STRUCTURED-LOCATION;VALUE=URI;X-ADDRESS=Online\,  \, Online\, Onlin
 e\, Online\, Canada;X-APPLE-RADIUS=100;X-TITLE=Online:geo:43.808785,-79.33
 4046
END:VEVENT
BEGIN:VTIMEZONE
TZID:America/Halifax
X-LIC-LOCATION:America/Halifax
BEGIN:DAYLIGHT
DTSTART:20220313T030000
TZOFFSETFROM:-0400
TZOFFSETTO:-0300
TZNAME:ADT
END:DAYLIGHT
END:VTIMEZONE
END:VCALENDAR