BEGIN:VCALENDAR
VERSION:2.0
PRODID:-//wp-events-plugin.com//7.2.3.1//EN
TZID:America/Halifax
X-WR-TIMEZONE:America/Halifax
BEGIN:VEVENT
UID:830@devourfest.com
DTSTART;TZID=America/Halifax:20221028T140000
DTEND;TZID=America/Halifax:20221028T150000
DTSTAMP:20220923T195040Z
URL:https://devourfest.com/program/culinary-workshop-w-michel-nischan-in-p
 erson/
SUMMARY:Culinary Workshop w/Michel Nischan - IN PERSON
DESCRIPTION:Wholesome Cravings: Plant-Based Goodness with Chef Michel Nisch
 an\n\nIteration and Elevation- One of the leading lights for decades in th
 e plant-forward culinary movement is Chef Michel Nischan. His commitment 
  to showcasing the flavours and tastes of other cultures drives the ethos 
 of his company Wholesome Crave. He will showcase the seminal First Nations
  dish Three Sisters Soup and how to transform it into other delightful dis
 hes helping to elevate your taste buds and culinary prowess.\n\nRecipe: Th
 ree Sisters Soup+\n\nTicket Price: $30.00 in-person (includes food samples
 )\nSponsored by Russell Hendrix\, Windsor Home Furniture\, and Bosch Canad
 a\n\nMichel Nischan\nFour-time James Beard Award-winner Chef Michel Nischa
 n has been dubbed the “Godfather” of advocacy in the culinary world\, 
 maintaining the longest-standing record fighting for a more sustainable\, 
 resilient\, and equitable food system through policy change. Michel is Co-
 Founder of the James Beard Foundation Chef Boot Camp for Policy and Change
 \, and the only chef in America to change the Federal Farm Bill\, twice\, 
 through his non-profit organization Wholesome Wave. Wholesome Wave was fou
 nded in 2007—the same year both of his restaurants were listed on Condé
  Nast’s Top 95 Restaurants in the World (Pure in Mumbai\, India\, and Th
 e Dressing Room Restaurant in Westport\, CT). Michel’s powerful speeches
  have silenced many rooms\, while his courage has paved paths in advocacy 
 for hundreds of chefs\, thousands of college graduates\, influencers\, and
  communities around the world. He now puts his efforts toward feeding thos
 e who have less to spend on their family in an entire day\, than what his 
 patrons spent on a single dish. @michelnischan @wholesomecrave
ATTACH;FMTTYPE=image/jpeg:https://devourfest.com/wp-content/uploads/2022/0
 9/Michel-Nischan-scaled.jpg
CATEGORIES:WORKSHOP
LOCATION:Devour! Studios\, 360 Main Street\, Wolfville\, NS\, B4P1C4\, Cana
 da
GEO:45.091942;-64.359045
X-APPLE-STRUCTURED-LOCATION;VALUE=URI;X-ADDRESS=360 Main Street\, Wolfville
 \, NS\, B4P1C4\, Canada;X-APPLE-RADIUS=100;X-TITLE=Devour! Studios:geo:45.
 091942,-64.359045
END:VEVENT
BEGIN:VTIMEZONE
TZID:America/Halifax
X-LIC-LOCATION:America/Halifax
BEGIN:DAYLIGHT
DTSTART:20220313T030000
TZOFFSETFROM:-0400
TZOFFSETTO:-0300
TZNAME:ADT
END:DAYLIGHT
END:VTIMEZONE
END:VCALENDAR