BEGIN:VCALENDAR
VERSION:2.0
PRODID:-//wp-events-plugin.com//7.2.3.1//EN
TZID:America/Halifax
X-WR-TIMEZONE:America/Halifax
BEGIN:VEVENT
UID:365@devourfest.com
DTSTART;TZID=America/Halifax:20171027T123000
DTEND;TZID=America/Halifax:20171027T140000
DTSTAMP:20170916T151101Z
URL:https://devourfest.com/program/culinary-workshop-wchef-paul-rogalski/
SUMMARY:Culinary Workshop w/Chef Paul Rogalski
DESCRIPTION:Paul Rogalski is renowned for his passion for exceptional cuisi
 ne created from homegrown and sustainable food. And as everyone knows a gr
 eat dish often starts with a great stock. Paul will present a session on T
 he Art of Bone Stock\, where he will make a variety of stocks and show par
 ticipants what to do with them once they are made.\n\nPaul Rogalski\n\nPau
 l Rogalski is renowned for his passion for exceptional cuisine created fro
 m homegrown and sustainable food. He is co-creator and owner of Calgary’
 s acclaimed Rouge Restaurant\, as well as Bistro Rouge\, a casual concept 
 in Calgary’s Signal Hill district. The accolades for Rouge include Best 
 Overall\, Where Magazine\, 2017.\n\nChef Paul is the recipient of the Univ
 ersity of Guelph Food Day Canada Good Food Innovation Award (2016) and was
  recognized by his alma mater\, the Southern Alberta Institute of Technolo
 gy\, as a Distinguished Alumni (2014).\n\nIn 2011 Paul was awarded Foodser
 vice and Hospitality magazine’s Independent Restaurateur of the Year\, n
 amed by Alberta Venture Magazine as one of Alberta’s Most Influential Pe
 ople and recognized by Business in Calgary Magazine as one of the Twenty B
 usiness Leaders of Tomorrow.\n\nDuring the 2010 Winter Olympics\, Paul was
  part of the management team that oversaw food production at Athletes Vill
 age in Whistler. Paul received special recognition for “Leadership and S
 upport of Organic and Sustainable Cuisine” from California’s Monterey 
 Bay Aquarium in 2009. @RougeCal
ATTACH;FMTTYPE=image/jpeg:https://devourfest.com/wp-content/uploads/2017/0
 8/Paul-Rogalski.jpeg
LOCATION:Troy Restaurant\, 12 Elm Ave.\, Wolfville\, NS\, B4P 2S2\, Canada
GEO:45.092072;-64.363983
X-APPLE-STRUCTURED-LOCATION;VALUE=URI;X-ADDRESS=12 Elm Ave.\, Wolfville\, N
 S\, B4P 2S2\, Canada;X-APPLE-RADIUS=100;X-TITLE=Troy Restaurant:geo:45.092
 072,-64.363983
END:VEVENT
BEGIN:VTIMEZONE
TZID:America/Halifax
X-LIC-LOCATION:America/Halifax
BEGIN:DAYLIGHT
DTSTART:20170312T030000
TZOFFSETFROM:-0400
TZOFFSETTO:-0300
TZNAME:ADT
END:DAYLIGHT
END:VTIMEZONE
END:VCALENDAR