BEGIN:VCALENDAR
VERSION:2.0
PRODID:-//wp-events-plugin.com//7.2.3.1//EN
TZID:America/Halifax
X-WR-TIMEZONE:America/Halifax
BEGIN:VEVENT
UID:159@devourfest.com
DTSTART;TZID=America/Halifax:20151105T110000
DTEND;TZID=America/Halifax:20151105T123000
DTSTAMP:20150920T194342Z
URL:https://devourfest.com/program/culinary-workshop-with-daniel-burns/
SUMMARY:Culinary Workshop with Daniel Burns
DESCRIPTION:Craft Beer  - Modern Food\nHalifax native Dan Burns is making 
 waves in New York City\, having recently been awarded a Michelin star at h
 is Brooklyn hotspot Luksus. Come see why the culinary world is being taken
  by storm with Chef Burns’ cuisine and his magical pairings with beer\, 
 emphasizing unique flavour profiles and combinations. Its culinary adventu
 ring outside the wine bottle\, for the inner hophead in you.\n\nDaniel Bur
 ns\n\nHalifax-born\, Daniel Burns is known for being one of the most talen
 ted and innovative Canadian chefs of his time. Previously working at widel
 y acclaimed restaurants like The Fat Duck in the UK\, and as the pastry ch
 ef at Noma until 2009\, he then moved to New York City to set up the test 
 kitchen for Momofuku\, as head of R&amp\;D. \nDaniel is now widely recogni
 zed as Chef and Partner at Tørst and Luskus in Greenpoint\, Brooklyn\, wh
 ich earned a Michelin Star earlier this year.
ATTACH;FMTTYPE=image/jpeg:https://devourfest.com/wp-content/uploads/2015/0
 9/rsz_1daniel_burns_1.jpg
LOCATION:Wolfville Farmer's Market\, 4 Elm Ave\, Wolfville\, NS\, B4P 2S3\,
  Canada
GEO:45.0920578;-64.36384250000003
X-APPLE-STRUCTURED-LOCATION;VALUE=URI;X-ADDRESS=4 Elm Ave\, Wolfville\, NS\
 , B4P 2S3\, Canada;X-APPLE-RADIUS=100;X-TITLE=Wolfville Farmer's Market:ge
 o:45.0920578,-64.36384250000003
END:VEVENT
BEGIN:VTIMEZONE
TZID:America/Halifax
X-LIC-LOCATION:America/Halifax
BEGIN:STANDARD
DTSTART:20151101T010000
TZOFFSETFROM:-0300
TZOFFSETTO:-0400
TZNAME:AST
END:STANDARD
END:VTIMEZONE
END:VCALENDAR