BEGIN:VCALENDAR
VERSION:2.0
PRODID:-//wp-events-plugin.com//7.2.3.1//EN
TZID:America/Halifax
X-WR-TIMEZONE:America/Halifax
BEGIN:VEVENT
UID:757@devourfest.com
DTSTART;TZID=America/Halifax:20211023T170000
DTEND;TZID=America/Halifax:20211023T190500
DTSTAMP:20211018T014452Z
URL:https://devourfest.com/program/delicieux-w-six-nights-in-person/
SUMMARY:Délicieux w/Six Nights - IN PERSON
DESCRIPTION:Délicieux\nFrance\, 1789\, just before the Revolution. With th
 e help of a surprising young woman\, a chef who has been sacked by his mas
 ter finds the strength to free himself from his position as a servant and 
 opens THE first restaurant.\nFrance/Belgium\, 2020\, 112 minutes\nDirector
  Éric Besnard\nDistributor Mongrel Media\nAvailable for Nova Scotia viewe
 rs in person only.\n\nSix Nights\n\nA restaurant dishwasher is given a las
 t-minute chance to step up as a line cook just before a busy Saturday nigh
 t dinner service.\nUSA\, 2021\, 12 minutes\n\nThis film will feature an in
 -theatre tasting by Chef Gabrielle LeGuerrier. Dish: Cooks will be Kings- 
 Cinnamon-Rubbed Snowy River Farm Pork Belly\, truffled pomme purée\, loca
 l wild mushroom jus\, crispy leek 'hay'.\n\nSponsored by the Embassy of Fr
 ance in Canada &amp\; the Consulate General of France in the Atlantic prov
 inces\, Alliance Française and Atlantic News\n\nMust be 19+ to attend.\n\
 nGabrielle LeGuerrier\n\nGabrielle LeGuerrier is a Michelin-trained chef w
 ho taught at Jamie Oliver's cookery school in London\, Trained chefs at th
 e Ritz in Paris\, and was Sous Chef for Her Majesty the Queen of England b
 efore creating GourmetGab Events by Pertu here in Halifax with her husband
 \, Sommelier Gabor Bodo.\n\nGourmetGab Events is a pandemic-born fine dini
 ng events company that specializes in one-of-a-kind personalized multi-cou
 rse dining experiences paired with exquisite wine and cocktails.\n\n 'Our
  passion is not just in food and wine but also in the entertaining so that
  every glass poured and plate presented has a story.' -Chef Gabrielle LeGu
 errier\n\nIn keeping with Nova Scotia provincial health regulations and a 
 desire to keep all our guests safe and healthy\, Devour! will require proo
 f of full Covid-19 vaccine immunization along with a valid photo ID upon e
 ntry to all events with no exceptions. For all Devour! Covid Protocols\, p
 lease visit our website.
ATTACH;FMTTYPE=image/jpeg:https://devourfest.com/wp-content/uploads/2021/0
 9/Delicieux.jpg
LOCATION:Al Whittle Theatre\, 450 Main St\, Wolfville\, NS\, B4P 1E2\, Cana
 da
GEO:45.0915;-64.362765
X-APPLE-STRUCTURED-LOCATION;VALUE=URI;X-ADDRESS=450 Main St\, Wolfville\, N
 S\, B4P 1E2\, Canada;X-APPLE-RADIUS=100;X-TITLE=Al Whittle Theatre:geo:45.
 0915,-64.362765
END:VEVENT
BEGIN:VTIMEZONE
TZID:America/Halifax
X-LIC-LOCATION:America/Halifax
BEGIN:DAYLIGHT
DTSTART:20210314T030000
TZOFFSETFROM:-0400
TZOFFSETTO:-0300
TZNAME:ADT
END:DAYLIGHT
END:VTIMEZONE
END:VCALENDAR