BEGIN:VCALENDAR
VERSION:2.0
PRODID:-//wp-events-plugin.com//7.2.3.1//EN
TZID:America/Halifax
X-WR-TIMEZONE:America/Halifax
BEGIN:VEVENT
UID:866@devourfest.com
DTSTART;TZID=America/Halifax:20221029T113000
DTEND;TZID=America/Halifax:20221029T143000
DTSTAMP:20221021T165715Z
URL:https://devourfest.com/program/devour-chowder-smackdown-5/
SUMMARY:Devour! Chowder Smackdown
DESCRIPTION:This event remains one of the most popular at Devour!. New this
  year\, we’re making it bigger and moving it outdoors. Attendees can pur
 chase $5 bowls of chowder of their choice while overlooking the breathtaki
 ng view of the Tidal Bay. Who will be crowned the chowder champion in 2022
 ?\nTicket Price: Free admission\; $5.00 bowls of chowder for purchase \n\
 nThe event is located in Wolfville's Waterfront Park (directly behind the
  Studios).\n\nSponsored by IPC Securities\, BMO\, Wilsons\, WBDC and Afish
 ionado\n\nParticipating Chefs &amp\; Restaurants include:\n\n 	The Church 
 Brewing\n 	The Grand Banker\n 	Joseph Shawana from the Indigenous Culinary
  of Associated Nations\n 	Just Us Coffee\n 	Longfellow\n 	Long Table Socia
 l Club\n 	Luckett Vineyards\n 	Paddy's Wolfville\n
ATTACH;FMTTYPE=image/jpeg:https://devourfest.com/wp-content/uploads/2022/0
 9/Chowder-Smackdown-scaled.jpg
CATEGORIES:EVENT
LOCATION:Devour! Studios\, 360 Main Street\, Wolfville\, NS\, B4P1C4\, Cana
 da
GEO:45.091942;-64.359045
X-APPLE-STRUCTURED-LOCATION;VALUE=URI;X-ADDRESS=360 Main Street\, Wolfville
 \, NS\, B4P1C4\, Canada;X-APPLE-RADIUS=100;X-TITLE=Devour! Studios:geo:45.
 091942,-64.359045
END:VEVENT
BEGIN:VTIMEZONE
TZID:America/Halifax
X-LIC-LOCATION:America/Halifax
BEGIN:DAYLIGHT
DTSTART:20220313T030000
TZOFFSETFROM:-0400
TZOFFSETTO:-0300
TZNAME:ADT
END:DAYLIGHT
END:VTIMEZONE
END:VCALENDAR