BEGIN:VCALENDAR
VERSION:2.0
PRODID:-//wp-events-plugin.com//7.2.3.1//EN
TZID:America/Halifax
X-WR-TIMEZONE:America/Halifax
BEGIN:VEVENT
UID:279@devourfest.com
DTSTART;TZID=America/Halifax:20161104T210000
DTEND;TZID=America/Halifax:20161105T010000
DTSTAMP:20161002T200440Z
URL:https://devourfest.com/program/devour-cocktail-pop-up-party-3/
SUMMARY:Devour! Cocktail Pop-Up Party
DESCRIPTION:They’re back! For the fourth year running (how lucky are we?!
 )\, our super talented Devour! mixologists\, Matt Jones and Jeff Van Horne
  will serve up some of their best creations to date. Your ticket includes 
 four cocktail samples and music by our resident DJ &amp\; Devour! Programm
 er\, Simon Thibault. 
ATTACH;FMTTYPE=image/jpeg:https://devourfest.com/wp-content/uploads/2016/0
 9/Cocktail-Pop-Up-Party.jpg
LOCATION:Church Brewing Company\, 329 Main Street\, Wolfville\, NS\, B4P 1C
 8\, Canada
GEO:45.0915946;-64.35829109999997
X-APPLE-STRUCTURED-LOCATION;VALUE=URI;X-ADDRESS=329 Main Street\, Wolfville
 \, NS\, B4P 1C8\, Canada;X-APPLE-RADIUS=100;X-TITLE=Church Brewing Company
 :geo:45.0915946,-64.35829109999997
END:VEVENT
BEGIN:VTIMEZONE
TZID:America/Halifax
X-LIC-LOCATION:America/Halifax
BEGIN:DAYLIGHT
DTSTART:20160313T030000
TZOFFSETFROM:-0400
TZOFFSETTO:-0300
TZNAME:ADT
END:DAYLIGHT
END:VTIMEZONE
END:VCALENDAR