BEGIN:VCALENDAR
VERSION:2.0
PRODID:-//wp-events-plugin.com//7.2.3.1//EN
TZID:America/Halifax
X-WR-TIMEZONE:America/Halifax
BEGIN:VEVENT
UID:103@devourfest.com
DTSTART;TZID=America/Halifax:20141114T220000
DTEND;TZID=America/Halifax:20141114T233000
DTSTAMP:20141110T143116Z
URL:https://devourfest.com/program/devour-cocktail-pop-up-party/
SUMMARY:Devour! Cocktail Pop-Up Party
DESCRIPTION:Tonight we’re bringing the party to the heart of Wolfville\, 
 the Anvil Pub\, with the ultimate selection of Devour! inspired cocktails 
 with renowned mixologists Jeffrey Van Horne and Matt Jones. Our Cocktail P
 op-up is the ultimate event for celebrity party crashers. Featuring a kitc
 hen takeover from our favourite late night food purveyors at Ace Burger Co
 . Admission includes samples of our signature cocktails. Don’t miss the 
 party!\n\nJeffrey Van Horne\n\n\n\nBio coming soon. It's been shaken to th
 e bottom of a cocktail glass. \n\nMatt Jones \n\n\n\nBoth bartender and 
 whisk(e)y nerd\, Matt has a wealth of knowledge in the alcohol beverage in
 dustry – over 16 years of experience in various roles including cook\, s
 erver\, bartender\, instructor\, foodservice and hospitality consultant\, 
 public speaker and media spokesperson. The role that is his favourite is t
 hat of Whisky Ambassador\, tapping into his passion of whisk(e)y.\n\nSince
  2010 he has been Beam Inc. Canada’s Whisk(e)y Ambassador for their Bour
 bon Portfolio (Maker’s Mark\, Jim Beam\, Devil’s Cut\, Knob Creek\,  
 Basil Hayden’s) as well as speaking to whiskies from Cooley (Kilbeggan\,
  Connemara\, Tyrconnell)\, Canadian Club (Reserve\, Classic\, Sherry Cask)
  and most recently as the mixologist for Alberta Premium’s Dark Horse Ry
 e. In this role\, he travels across Canada preaching the gospel of whisk(e
 )y!\n\nMatt has also appeared as a bartender/mixology consultant on shows 
 on the Food Network\, SLICE Network\, and “W” Network. Other appearanc
 es include CityTV Breakfast Television (Toronto)\, Rogers Daytime\, CHCH N
 ews\, CTV and CBC News. He has also provided content for numerous articles
  on spirits and whisk(e)y including August 2014 issue of Whisky Magazine.
ATTACH;FMTTYPE=image/jpeg:https://devourfest.com/wp-content/uploads/2014/0
 9/Cocktail-Pop-Up-Party-Shot.jpg
LOCATION:Anvil Pub\, 10 Harborside Drive\, Wolfville\, NS\, B4P2C1\, Canada
GEO:45.098984;-64.343651
X-APPLE-STRUCTURED-LOCATION;VALUE=URI;X-ADDRESS=10 Harborside Drive\, Wolfv
 ille\, NS\, B4P2C1\, Canada;X-APPLE-RADIUS=100;X-TITLE=Anvil Pub:geo:45.09
 8984,-64.343651
END:VEVENT
BEGIN:VTIMEZONE
TZID:America/Halifax
X-LIC-LOCATION:America/Halifax
BEGIN:STANDARD
DTSTART:20141102T010000
TZOFFSETFROM:-0300
TZOFFSETTO:-0400
TZNAME:AST
END:STANDARD
END:VTIMEZONE
END:VCALENDAR