BEGIN:VCALENDAR
VERSION:2.0
PRODID:-//wp-events-plugin.com//7.2.3.1//EN
TZID:America/Halifax
X-WR-TIMEZONE:America/Halifax
BEGIN:VEVENT
UID:425@devourfest.com
DTSTART;TZID=America/Halifax:20180518T170000
DTEND;TZID=America/Halifax:20180520T170000
DTSTAMP:20180516T154303Z
URL:https://devourfest.com/program/devour-fox-harbr-resort/
SUMMARY:Devour! Fox Harb'r with CBC Host & Comedian Ali Hassan - Food\, Fil
 m & Fun Weekend
DESCRIPTION:We're thrilled to be returning to Fox Harb’r for a Devour! Fo
 od\, Film &amp\; Fun Weekend from May 18-20\, 2018. Don’t miss our third
  annual collaborative celebration of culinary and cinema. New this year\, 
 an added splash of comedy.\n\nHosted by CBC personality\, stand-up comic\,
  actor and chef Ali Hassan\, Devour! Fox Harb’r is\, above all\, an idea
 l break for foodies\, film buffs and anyone who wants to have laugh-out-lo
 ud fun. So\, enjoy memorable food &amp\; drink\, including North Shore\, 
 Nova Scotia favorite flavours\, in a relaxing\, oceanside setting. Celebr
 ate Victoria Day weekend in gourmet style!\n\nThe 2018 Devour! Food\, Film
  &amp\; Fun Weekend package includes:\n\n 	\n\n 	2 nights’ luxury ocean 
 view suite accommodation\n 	6-9pm: Friday night “Slice of Life” welcom
 e reception featuring both cocktail bites &amp\; cultural comedy from Ali 
 Hassan\n 	9-11pm: Oceanside campfire with music and gourmet s’mores\n 	7
 :30am-10am: Saturday deluxe hot breakfast buffet\n 	11am-1:30pm: North Sho
 re Explore trip to Jost Vineyards for a red\, white &amp\; sparkling wine 
 tasting\n 	2-3:30pm: “Chefs’ Cook-off” culinary demo contest\n 	7-10
 pm: Saturday’s “The Big Six\,” a six-course\, collaborative food &am
 p\; short film match-ups dinner feast created by Fox Harb’r Executive Ch
 ef Shane Robilliard\, Devour! Founder\, Executive Director and Chef Michae
 l Howell\, and lifelong “Food Guy” Ali Hassan with Nova Scotia wine pa
 irings for each course and comedic films curated by Managing Director Lia 
 Rinaldo in the Cape Cliff Dining Room Menu below!\n 	9am-12pm: Sunday Bru
 nch\n 	Featuring:\nChef Michael Howell – Devour! The Food Film Fest\nChe
 f Shane Robilliard – Fox Harb’r Resort\nComedian/Chef Ali HassanAvaila
 bility:\nBetween Friday\, May 18 and Sunday\, May 20\, 2018.Rates:\nRates 
 start from $505.00+ per night based on double occupancy in a Studio Suite.
 Please Note:\nSubject to hotel availability. Package must be booked as a m
 inimum 2-night stay – May 18 &amp\; 19\, 2018.\n\n\n\n\n\n\nAli Hassan\n
 \n\nBio- Ali Hassan\nAli Hassan is best known as a Canadian stand-up comic
 \, writer\, actor\, and radio and television personality. CBC fans will re
 cognize him as the past lead panellist on George Stroumboulopoulos Tonight
 \, the returning host of the annual battle-of-the-books competition\, Cana
 da Reads\, the weekly host of Laugh Out Loud and a recent Q guest host.\n\
 nThe first seed of his chef sideline was planted when he dissed his mother
 ’s school lunch Kraft Singles and tomato sandwiches. Hassan’s culinary
  chops have included owning a restaurant\, cooking for benefit galas\, cat
 ering\, and hosting his own online cooking channel\, Bland Is Boring. www
 .standupali.com
ATTACH;FMTTYPE=image/jpeg:https://devourfest.com/wp-content/uploads/2018/0
 1/Devour-Fox-Harbr-Food-Film-Fun-May-2018.jpg
LOCATION:Fox Harb'r Resort\, 1337 Fox Harbour Road\, Wallace\, NS\, B0K 1Y0
 \, Canada
GEO:45.838306;-63.529438
X-APPLE-STRUCTURED-LOCATION;VALUE=URI;X-ADDRESS=1337 Fox Harbour Road\, Wal
 lace\, NS\, B0K 1Y0\, Canada;X-APPLE-RADIUS=100;X-TITLE=Fox Harb'r Resort:
 geo:45.838306,-63.529438
END:VEVENT
BEGIN:VTIMEZONE
TZID:America/Halifax
X-LIC-LOCATION:America/Halifax
BEGIN:DAYLIGHT
DTSTART:20180311T030000
TZOFFSETFROM:-0400
TZOFFSETTO:-0300
TZNAME:ADT
END:DAYLIGHT
END:VTIMEZONE
END:VCALENDAR