BEGIN:VCALENDAR
VERSION:2.0
PRODID:-//wp-events-plugin.com//7.2.3.1//EN
TZID:America/Halifax
X-WR-TIMEZONE:America/Halifax
BEGIN:VEVENT
UID:119@devourfest.com
DTSTART;TZID=America/Halifax:20141115T220000
DTEND;TZID=America/Halifax:20141116T010000
DTSTAMP:20140922T114311Z
URL:https://devourfest.com/program/devour-kitchen-party-with-wendy-macisaa
 c-brad-davidge-friends/
SUMMARY:Devour! Kitchen Party with Wendy MacIsaac\, Brad Davidge & Friends
DESCRIPTION:Join Wendy MacIsaac\, Brad Davidge and friends as they raise th
 e roof at our intimate and exclusive Nova Scotia kitchen party. There is n
 o way you will be able to resist getting on the dance floor with this comb
 ination of lively music\, signature Devour drinks and one more kitchen tak
 eover from our friends at Ace Burger Co. Join us for the ultimate curling 
 club take-over!\n\nWendy MacIsaac\n\n\n\nWendy's bio is coming soon\, she'
 s fiddling her way through the state of California at the moment.\n\nBrad 
 Davidge \n\nBrad's bio &amp\; photo are on the way\, cut him some slack\,
  he just found out he's playing this gig!
ATTACH;FMTTYPE=image/jpeg:https://devourfest.com/wp-content/uploads/2014/0
 9/Devour-Kitchen-Party-shot.jpg
LOCATION:Wolfville Curling Club\, 19 Elm Ave.\, Wolfville\, NS\, B0P1X0\, C
 anada
GEO:45.092003;-64.363800
X-APPLE-STRUCTURED-LOCATION;VALUE=URI;X-ADDRESS=19 Elm Ave.\, Wolfville\, N
 S\, B0P1X0\, Canada;X-APPLE-RADIUS=100;X-TITLE=Wolfville Curling Club:geo:
 45.092003,-64.363800
END:VEVENT
BEGIN:VTIMEZONE
TZID:America/Halifax
X-LIC-LOCATION:America/Halifax
BEGIN:STANDARD
DTSTART:20141102T010000
TZOFFSETFROM:-0300
TZOFFSETTO:-0400
TZNAME:AST
END:STANDARD
END:VTIMEZONE
END:VCALENDAR